BEGIN:VCALENDAR
VERSION:2.0
PRODID:-//Kartazoon//NONSGML kigkonsult.se iCalcreator 2.41.92//
CALSCALE:GREGORIAN
METHOD:PUBLISH
UID:38383764-3465-4538-a666-396339616634
X-WR-CALNAME:iCagenda
X-WR-CALDESC:Event Management Extension for Joomla!
X-WR-RELCALID:3E26604A-50F4-4449-8B3E-E4F4932D05B5
X-WR-TIMEZONE:UTC
BEGIN:VTIMEZONE
TZID:UTC
END:VTIMEZONE
BEGIN:VEVENT
UID:65646563-6530-4364-b564-373664613164
DTSTAMP:20260421T170422Z
CATEGORIES:In Kollaboration mit ...
CLASS:PUBLIC
DESCRIPTION;ALTREP="CID:<FFFF__=0ABBE548DFE235B58f9e8a93d@coffeebean.com>":
 Recharge present Halloween Party Night\nIn Kollaboration&nbsp\;mit Recharg
 e und Kartazoon-Gallery\nEs würde uns freuen viele Mitglieder anzutreffen\
 , welche sich für die Halloween-Party extra in eine passende Garderobe&nbs
 p\;werfen.\n&nbsp\;\nMusic-styles:\nNew Trance and Remember\n&nbsp\;\nLine
 -up\nIndian (*1) \nUpspace Nostra Now-here Vanja\n&nbsp\;\nPlaytime\n22.00
  - 24.00 Upspace\n24.00 - 02.00 Nostra\n02.00 - 04.00 Now-here\n04.00 - en
 d&nbsp\;&nbsp\;&nbsp\; Vanja\n&nbsp\;\n*1 Dj Indian An alle Partygäste der
  Recharge Halloween Party Auf Grund eines Terminkonflikts muss ich schwere
 n Herzen\, trotz meiner Zusage\, leider die Teilnahme Absagen L. Ich bin a
 n diesem Wochenende von meiner Lebenspartnerin auf einen gemeinsamen Weeke
 nd Trip eingeladen. Ursprünglich sollte es eine Überraschung werden. Diese
  Umstände tun mir sehr leid und ich hoffe Euch ein anderes Mal in einem so
 lchen Rahmen mit meiner Musik wieder bereichern zu dürfen! An dieser Stell
 e möchte ich mich ganz herzlich bei Marcel (Nowhere) und Silvio (Nostra) f
 ür das Vertrauen und die Anfrage bedanken. Ich hätte wirklich gerne und vo
 n Herzen mit Euch Party gemacht und hoffe auf ein anderes Mal! „Es dicks R
 auchzeiche vom Indianer\nDer Einlass wird nur für Mitglieder von Kartazoon
 -Gallery gewährt. Möchtest du mit Sicherheit dabei sein\, so solltest du d
 en Memberantrag bis spätestens dem Freitag\, 28.Oktober 2016 ausfüllen. Di
 e reguläre Jahresmitgliedschaft kostet CHF 30.- Da dies jedoch eine Zusamm
 enarbeit mir Recharge ist\, wird jeder Gast am Eingang zwei Getränkebons b
 ekommen\, welche an der Bar eingelöst werden können. Die Location befindet
  sich im Otto Rupf-Gebäude - Eingang bei der Tiefgarage. Zu Fuss ca. 4 Min
 uten vom Bahnhof Stettbach entfernt. Reichlich Parkplätze am Bahnhof Stett
 bach und um das Gebäude vorhanden.\nHier geht's zum&nbsp\;Memberantrag\nPe
 ace and love. Das Kartazoon-team
DTSTART:20161029T220000Z
DTEND:20161030T070000Z
GEO:+47.395519;+8.598752
LOCATION:Club Dampf
ORGANIZER:
SEQUENCE:1
SUMMARY:Recharge present Halloween Party Night
TRANSP:OPAQUE
URL:https://www.kartazoon.ch/events/events-archiv/34-Recharge%20present%20H
 alloween%20Party%20Night
END:VEVENT
END:VCALENDAR
