BEGIN:VCALENDAR
VERSION:2.0
PRODID:-//Kartazoon//NONSGML kigkonsult.se iCalcreator 2.41.92//
CALSCALE:GREGORIAN
METHOD:PUBLISH
UID:32393331-6331-4261-a435-393931373665
X-WR-CALNAME:iCagenda
X-WR-CALDESC:Event Management Extension for Joomla!
X-WR-RELCALID:3E26604A-50F4-4449-8B3E-E4F4932D05B5
X-WR-TIMEZONE:UTC
BEGIN:VTIMEZONE
TZID:UTC
END:VTIMEZONE
BEGIN:VEVENT
UID:38666464-3533-4332-a633-376533373764
DTSTAMP:20260421T170511Z
CATEGORIES:Kartazoon Mitglieder
CLASS:PUBLIC
DESCRIPTION;ALTREP="CID:<FFFF__=0ABBE548DFE235B58f9e8a93d@coffeebean.com>":
 &nbsp\;privat warm-up / psychedelic carnival\n&nbsp\;\nMusic-styles:\nProg
 ressiv and Psy\n&nbsp\;\nLine-up:\nCreator\nGregg\nVanja\n&nbsp\;\n&nbsp\;
 \nDer Einlass gilt nur für Members. Die Location befindet sich im Otto Rup
 f-Gebäude - Eingang bei der Tiefgarage. Zu Fuss ca. 4 Minuten vom Bahnhof 
 Stettbach entfernt. Reichlich Parkplätze um das Gebäude vorhanden.\nHier g
 eht's zum&nbsp\;Memberantrag
DTSTART:20161111T220000Z
DTEND:20161112T070000Z
GEO:+47.395519;+8.598752
LOCATION:Club Dampf
ORGANIZER:
SEQUENCE:1
SUMMARY:Novembertanz
TRANSP:OPAQUE
URL:https://www.kartazoon.ch/events/events-archiv/31-Novembertanz
END:VEVENT
END:VCALENDAR
