BEGIN:VCALENDAR
VERSION:2.0
PRODID:-//Kartazoon//NONSGML kigkonsult.se iCalcreator 2.41.92//
CALSCALE:GREGORIAN
METHOD:PUBLISH
UID:63353139-6665-4532-b563-646566306537
X-WR-CALNAME:iCagenda
X-WR-CALDESC:Event Management Extension for Joomla!
X-WR-RELCALID:3E26604A-50F4-4449-8B3E-E4F4932D05B5
X-WR-TIMEZONE:UTC
BEGIN:VTIMEZONE
TZID:UTC
END:VTIMEZONE
BEGIN:VEVENT
UID:66623461-3062-4136-b563-323039613765
DTSTAMP:20260421T170956Z
CATEGORIES:Kartazoon Mitglieder
CLASS:PUBLIC
DESCRIPTION;ALTREP="CID:<FFFF__=0ABBE548DFE235B58f9e8a93d@coffeebean.com>":
 12 Jahre VaPa – Jubiläumsparty\n&nbsp\;\nGerne wollen wir mit euch darauf 
 anstossen.\n&nbsp\;\nMusic-styles:\nDeep-House / Tech-House / Tribal-House
 \n&nbsp\;\n&nbsp\;\nLine-up:\n22.00 - 23.30 Eric\n23.30 - 01.00 Pace\n01.0
 0 - 04.00 Tomy Gips &amp\; Vanja\n04.00 - 06.00 Aaron Khaleian\n06.00 - 08
 .00 L.u.z.i.\n&nbsp\;\n\nDer Einlass gilt nur für Members. Die Location be
 findet sich im Otto Rupf-Gebäude - Eingang bei der Tiefgarage. Zu Fuss ca.
  4 Minuten vom Bahnhof Stettbach entfernt. Reichlich Parkplätze um das Geb
 äude vorhanden.\nHier geht's zum&nbsp\;Memberantrag\n&nbsp\;\n&nbsp\;\n&nb
 sp\;
DTSTART:20161203T220000Z
DTEND:20161204T080000Z
GEO:+47.395519;+8.598752
LOCATION:Club Dampf
ORGANIZER:
SEQUENCE:1
SUMMARY:12 Jahre VaPa – Jubiläumsparty
TRANSP:OPAQUE
URL:https://www.kartazoon.ch/events/events-archiv/30-12%20Jahre%20VaPa%20%E
 2%80%93%20Jubil%C3%A4umsparty
END:VEVENT
END:VCALENDAR
