BEGIN:VCALENDAR
VERSION:2.0
PRODID:-//Kartazoon//NONSGML kigkonsult.se iCalcreator 2.41.92//
CALSCALE:GREGORIAN
METHOD:PUBLISH
UID:36313063-3230-4661-b032-373438376562
X-WR-CALNAME:iCagenda
X-WR-CALDESC:Event Management Extension for Joomla!
X-WR-RELCALID:3E26604A-50F4-4449-8B3E-E4F4932D05B5
X-WR-TIMEZONE:UTC
BEGIN:VTIMEZONE
TZID:UTC
END:VTIMEZONE
BEGIN:VEVENT
UID:65323062-3431-4266-a634-353231376335
DTSTAMP:20260421T150008Z
CATEGORIES:Kartazoon Mitglieder
CLASS:PUBLIC
DESCRIPTION;ALTREP="CID:<FFFF__=0ABBE548DFE235B58f9e8a93d@coffeebean.com>":
 10 Jahre Kartazoon - Jubiläumsparty\nAnlässlich der Jubiläumsfeier - 10 Ja
 hre Kartazoon - laden wir zum Tanz \nDefinitver Entscheid\, die Party find
 et outdoor statt!!!\nWährend den letzten 10 Jahren organisierten die Gründ
 er des Partylabels Kartazoon in erster Linie Partys mit einem gewissen und
 erground-charakter. Vor gut zwei Jahren wurde parallel dazu der Verein Kar
 tazoon-Gallery gegründet\, der bis Heute bereits etliche\, kleinere Verans
 taltungen für unsere Vereinsmitglieder\, im Vereinslokal Club Dampf in Ste
 ttbach durchführte. Obschon wir in jüngster Zeit neue Projekte und einige 
 Fusionen mit weiteren Partylabels realisierten\, sollen auch in Zukunft un
 ter dem Namen Kartazoon primär überschaubare Veranstaltungen durchgeführt 
 werden. \n13.30 - 22.00 (max. 24.00)\nHasenrainhütte\, auf dem Plateau bei
 m Schiessplatz\, 8047 Zürich-Albisrieden \n&nbsp\;\nMit dem Auto: Bitte di
 e Parkplätze beim Schiessplatz und nicht direkt an der Strasse benutzen.\n
 Zu Fuss: Ab Uitikon Waldegg oder Albisriederdörfli - ca. 20 Minuten Fussma
 rsch.\n&nbsp\;\nNur für registrierte Gäste der Veranstaltung !!!\nSiehe da
 zu den Button grün oben rechts beim Beschrieb der Veranstaltung.\nEine Kon
 trolle wird durch unser Sicherheitspersonal\, welches auf dem Gelände patr
 oulliert\, in regelmässigen Abständen durchgeführt.\n\n13.30 Uhr:\n Wir st
 arten mit einer erfrischenden Bowle und Snacks aus dem Hause des Müller-cl
 ans.\n18.00 Uhr - 21.00 Uhr: \nWährend dieser Zeit habt Ihr die Möglichkei
 t Euch mit Köstlichkeiten der Grillsaison verpflegen zu können.\n&nbsp\;\n
 Line-up:\n13.30 - 15.00 Perino \n15.00 - 16.30 Luca Barth \n16.30 - 18.00 
 Sayan Sobuth\n18.00 - 19.30 eZuercher\n19.30 - 21.00 Tomy gips\n21.00 - 22
 .00 Vanja\n22.00 - 24.00 open decks\nHier geht's zum&nbsp\;Memberantrag&nb
 sp\;\nEs würde uns freuen auch mit Dir anzustossen und bis in den Abend au
 sgelassen Feiern zu dürfen.\nDas OK-Team von Kartazoon bedankt sich für Eu
 ren treuen Support und wünscht weiterhin schöne Sommermomente.
DTSTART:20160910T133000Z
DTEND:20160910T220000Z
GEO:+47.373325;+8.47589
LOCATION:Hasenrain Zürich
ORGANIZER:
SEQUENCE:1
SUMMARY:10 Jahre Kartazoon
TRANSP:OPAQUE
URL:https://www.kartazoon.ch/events/events-archiv/3-10%20Jahre%20Kartazoon
END:VEVENT
END:VCALENDAR
