BEGIN:VCALENDAR
VERSION:2.0
PRODID:-//Kartazoon//NONSGML kigkonsult.se iCalcreator 2.41.92//
CALSCALE:GREGORIAN
METHOD:PUBLISH
UID:35343032-3332-4066-a235-656635346531
X-WR-CALNAME:iCagenda
X-WR-CALDESC:Event Management Extension for Joomla!
X-WR-RELCALID:3E26604A-50F4-4449-8B3E-E4F4932D05B5
X-WR-TIMEZONE:UTC
BEGIN:VTIMEZONE
TZID:UTC
END:VTIMEZONE
BEGIN:VEVENT
UID:64383039-6538-4233-a633-616666666165
DTSTAMP:20260421T170511Z
CATEGORIES:Kartazoon Mitglieder
CLASS:PUBLIC
DESCRIPTION;ALTREP="CID:<FFFF__=0ABBE548DFE235B58f9e8a93d@coffeebean.com>":
 10 Jahre Kartazoon - Jubiläumsparty / second part\nAnlässlich der Jubiläum
 sfeier - 10 Jahre Kartazoon / trance\, hardstyle and progressiv - laden wi
 r zum Tanz.&nbsp\; \nWährend den letzten 10 Jahren organisierten die Gründ
 er des Partylabels Kartazoon in erster Linie Partys mit einem gewissen und
 erground-charakter. Vor gut zwei Jahren wurde parallel dazu der Verein Kar
 tazoon-Gallery gegründet\, der bis Heute bereits etliche\, kleinere Verans
 taltungen für unsere Vereinsmitglieder\, im Vereinslokal Club Dampf in Ste
 ttbach durchführte. Obschon wir in jüngster Zeit neue Projekte und einige 
 Fusionen mit weiteren Partylabels realisierten\, sollen auch in Zukunft un
 ter dem Namen Kartazoon primär überschaubare Veranstaltungen durchgeführt 
 werden. \nMusic-styles:\nTrance / Hardstyle / Progressiv\n&nbsp\;\nLine-up
 :\n22.00 - 23.30 RafFX\n23.30 - 01.00 Hardfunction\n01.00 - 03.00 Andialbu
 ndy meets Vanja\n03.00 - 05.00 Nonsdrome\n05.00 - 07.00 Gregg\n&nbsp\;\nDe
 r Einlass gilt nur für Members. Die Location befindet sich im Otto Rupf-Ge
 bäude - Eingang bei der Tiefgarage. Zu Fuss ca. 4 Minuten vom Bahnhof Stet
 tbach entfernt. Reichlich Parkplätze um das Gebäude vorhanden.\nHier geht'
 s zum&nbsp\;Memberantrag\nDas OK-Team von Kartazoon bedankt sich für Euren
  treuen support und wünscht weiterhin schöne Sommermomente.
DTSTART:20160924T220000Z
DTEND:20160925T070000Z
GEO:+47.395519;+8.598752
LOCATION:Club Dampf
ORGANIZER:
SEQUENCE:1
SUMMARY:10 Jahre Kartazoon - second part
TRANSP:OPAQUE
URL:https://www.kartazoon.ch/events/events-archiv/28-10%20Jahre%20Kartazoon
 %20-%20second%20part
END:VEVENT
END:VCALENDAR
