BEGIN:VCALENDAR
VERSION:2.0
PRODID:-//Kartazoon//NONSGML kigkonsult.se iCalcreator 2.41.92//
CALSCALE:GREGORIAN
METHOD:PUBLISH
UID:62373533-3436-4039-a533-666630376239
X-WR-CALNAME:iCagenda
X-WR-CALDESC:Event Management Extension for Joomla!
X-WR-RELCALID:3E26604A-50F4-4449-8B3E-E4F4932D05B5
X-WR-TIMEZONE:UTC
BEGIN:VTIMEZONE
TZID:UTC
END:VTIMEZONE
BEGIN:VEVENT
UID:65343461-3237-4434-b366-313032646430
DTSTAMP:20260421T145908Z
CATEGORIES:Öffentliche Partys
CLASS:PUBLIC
DESCRIPTION;ALTREP="CID:<FFFF__=0ABBE548DFE235B58f9e8a93d@coffeebean.com>":
 Panorama Dance - electronic festival \n&nbsp\;\nEs freut uns euch endlich 
 offiziell bekannt geben zu können:&nbsp\;\n'Der Verein Kartazoon-Gallery w
 ird am Zürichfäscht 2016 teilnehmen!'\n&nbsp\;\nIn einer Zusammenarbeit mi
 t Interzone können wir euch während drei Tagen beinahe vollends Verwöhnen.
 \nNebst einem hochkarätigen Line-up und einem atemberaubenden Panorama auf
  die Glarner Alpen\,\nkönnt ihr euch durch die kulinarischen Köstlichkeite
 n von Indien\, Thailand\, Italien\, Frankreich und Amerika\ndurchschlemmen
 .\n&nbsp\;\n\n&nbsp\;\n\n&nbsp\;\n \n&nbsp\;\n\n&nbsp\;\n\n&nbsp\;\n\n&nbs
 p\;\n\n&nbsp\;\n\n&nbsp\;\n\n\n&nbsp\;\n&nbsp\;\n&nbsp\;\n\n\n&nbsp\;\n&nb
 sp\;\n&nbsp\;\n&nbsp\;\nKomm und sei dabei wenn es heisst:\n'Kartazoon goe
 s Outdoor'\n3 day Panorama dance electronic festival\n&nbsp\;\nFür ein unv
 ergessliches Audio Erlebnis haben wir  die neue Funktion One EVO-06 am Sta
 rt.\n&nbsp\;\nMusic-styles:\nChill-out / Deep &amp\; Tech-House / Progress
 iv\n&nbsp\;\nLine-up:\nLiquid Soul ( Iboga Records ) Ranji ( Blue Tunes ) 
 Class - A ( Blue Tunes ) Hanzo ( Blue Tunes ) XV-Kilist &amp\; Rocco ( Ibo
 ga Records ) Khainz ( Switzerland ) Weitere Act's kommen noch dazu Pow Low
  ( Hertz / Tanzwiese ) Creator ( TesseracT ) Human Element ( Iboga Records
  ) Vanja ( Kartazoon ) Gregg ( Kartazoon ) Akustik ( Spin Twist ) Jackatek
  ( Spin Twist Records ) Jasmin ( MindThings ) Bassforscher ( Spin Twist Re
 cords ) Carola ( Question Of Prog ) La Luna ( Stairs ) Angy Dee ( Stairs C
 lub ) Kaylee ( b2b Ibiza / Underground Effects ) Suspect One ( Underground
  Effects ) Patrique ( Playground ) Shane Hoeh ( Jetlag Digital ) F-Act ( B
 aroque Records ) Off Beat Brothers Sayan Sobuth Roni Nostra ( Happy People
  ) e Zuercher und viele mehr\nEinen grossen Dank an unsere Freunde für den
  support und die tolle Unterstützung.\nWeitere Act's kommen noch dazu\n\nG
 ehörst auch du noch immer zu den zahlreichen Facebook-usern. Siehe dazu Pa
 norama Dance Zürichfäscht 2016\nAn dieser Stelle möchten wir euch gerne be
 reits darauf hinweisen.\nBitte benutzt die Abfalleimer und Aschenbecher.&n
 bsp\;\nGlasflaschen werden auf unserem Areal nicht gerne gesehen.\nUnsere 
 Putzequipe sowie die Füsse der Barfusstänzer würden es sehr begrüssen\, we
 nn ihr euch an diese Bitten halten könntet.\n&nbsp\;\nWir freuen uns auf d
 as kommende Zürichfäscht 2016 und bedanken uns für euren Respekt zur Natur
  und euren Mitmenschen.
DTSTART:20160701T160000Z
DTEND:20160704T000000Z
GEO:+47.353256;+8.55596
LOCATION:Rechtes See-Ufer beim Kugelbrunnen
ORGANIZER:
SEQUENCE:1
SUMMARY:Panorama Dance Zürifäscht 2016
TRANSP:OPAQUE
URL:https://www.kartazoon.ch/events/events-archiv/26-Panorama%20Dance%20ZF1
 6
END:VEVENT
END:VCALENDAR
