BEGIN:VCALENDAR
VERSION:2.0
PRODID:-//Kartazoon//NONSGML kigkonsult.se iCalcreator 2.41.92//
CALSCALE:GREGORIAN
METHOD:PUBLISH
UID:32313962-3134-4564-a136-326161343132
X-WR-CALNAME:iCagenda
X-WR-CALDESC:Event Management Extension for Joomla!
X-WR-RELCALID:3E26604A-50F4-4449-8B3E-E4F4932D05B5
X-WR-TIMEZONE:UTC
BEGIN:VTIMEZONE
TZID:UTC
END:VTIMEZONE
BEGIN:VEVENT
UID:34616261-3462-4031-b163-383062343439
DTSTAMP:20260421T145800Z
CATEGORIES:Kartazoon Mitglieder
CLASS:PUBLIC
DESCRIPTION;ALTREP="CID:<FFFF__=0ABBE548DFE235B58f9e8a93d@coffeebean.com>":
 25 Jahre VaBo – Jubiläumsparty\n\n…ganz grosses Kino… und der Film läuft i
 mmer noch.\nDieses Jubiläum von Vanessa &amp\; Bobby will gebührend gefeie
 rt werden. Komm und sei dabei… würde uns freuen auch mit Dir anzustossen u
 nd bis in den Morgen zu tanzen.\n21.00 – 23.00 Bowle &amp\; Snacks zu den 
 Retro Hits aus Wunschliste VaBo\n&nbsp\;\nDresscode:\nweiss / silber / sch
 warz ...kombiniert oder auch nicht...wie ihr Lust habt\, einfach nicht bun
 t :-)\n&nbsp\;\nMusic-styles:\n80er / 90er /&nbsp\;Trance /&nbsp\;Remember
  / Progressiv\n&nbsp\;\n&nbsp\;\nLine-up:\n21.00 - 23.00 Warm up by RafFX 
 mit 80er / 90er Hits\n23.00 - 24.00 RafFX\n24:00 - 02:00 Nostra\n02.00 - 0
 4.00 Colombo\n04.00 - 05.30 Vanja\n05.30 - 07.00 Gregg\n&nbsp\;\n\nDer Ein
 lass gilt nur für Members. Die Location befindet sich im Otto Rupf-Gebäude
  - Eingang bei der Tiefgarage. Zu Fuss ca. 4 Minuten vom Bahnhof Stettbach
  entfernt. Reichlich Parkplätze um das Gebäude vorhanden.\nHier geht's zum
 &nbsp\;Memberantrag\n&nbsp\;\n&nbsp\;\n&nbsp\;
DTSTART:20160625T210000Z
DTEND:20160626T070000Z
GEO:+47.395519;+8.598752
LOCATION:Club Dampf
ORGANIZER:
SEQUENCE:1
SUMMARY:25 Jahre VaBo – Jubiläumsparty
TRANSP:OPAQUE
URL:https://www.kartazoon.ch/events/events-archiv/25-25%20Jahre%20VaBo%20%E
 2%80%93%20Jubil%C3%A4umsparty
END:VEVENT
END:VCALENDAR
