BEGIN:VCALENDAR
VERSION:2.0
PRODID:-//Kartazoon//NONSGML kigkonsult.se iCalcreator 2.41.92//
CALSCALE:GREGORIAN
METHOD:PUBLISH
UID:62333737-3437-4438-a138-353763393435
X-WR-CALNAME:iCagenda
X-WR-CALDESC:Event Management Extension for Joomla!
X-WR-RELCALID:3E26604A-50F4-4449-8B3E-E4F4932D05B5
X-WR-TIMEZONE:UTC
BEGIN:VTIMEZONE
TZID:UTC
END:VTIMEZONE
BEGIN:VEVENT
UID:31353563-3138-4630-b564-303737353936
DTSTAMP:20260421T150606Z
CATEGORIES:Kartazoon Mitglieder
CLASS:PUBLIC
DESCRIPTION;ALTREP="CID:<FFFF__=0ABBE548DFE235B58f9e8a93d@coffeebean.com>":
 \n50&nbsp\;Years\nAnlässlich des 50igsten Geburtstages&nbsp\;eines Freunde
 s&nbsp\;laden wir dich herzlichst ein\, dies gebührend mit uns feiern zu k
 ommen.&nbsp\;\n\n&nbsp\;\nMusic-styles:\nTechno /&nbsp\;Trance /&nbsp\;Rem
 ember\n&nbsp\;\nLine-up:\nGregg\nExcess\nPace\nAngy Dee\nVanja\n&nbsp\;\n
 \nDer Einlass gilt nur für Members. Die Location befindet sich im Otto Rup
 f-Gebäude - Eingang bei der Tiefgarage. Zu Fuss ca. 4 Minuten vom Bahnhof 
 Stettbach entfernt. Reichlich Parkplätze um das Gebäude vorhanden.\nHier g
 eht's zum&nbsp\;Memberantrag\n&nbsp\;\n&nbsp\;\n&nbsp\;
DTSTART:20160504T220000Z
DTEND:20160505T060000Z
GEO:+47.395519;+8.598752
LOCATION:Club Dampf
ORGANIZER:
SEQUENCE:1
SUMMARY:Excessiv
TRANSP:OPAQUE
URL:https://www.kartazoon.ch/events/events-archiv/24-Excessiv
END:VEVENT
END:VCALENDAR
