BEGIN:VCALENDAR
VERSION:2.0
PRODID:-//Kartazoon//NONSGML kigkonsult.se iCalcreator 2.41.92//
CALSCALE:GREGORIAN
METHOD:PUBLISH
UID:33656537-3737-4464-b632-313036386638
X-WR-CALNAME:iCagenda
X-WR-CALDESC:Event Management Extension for Joomla!
X-WR-RELCALID:3E26604A-50F4-4449-8B3E-E4F4932D05B5
X-WR-TIMEZONE:UTC
BEGIN:VTIMEZONE
TZID:UTC
END:VTIMEZONE
BEGIN:VEVENT
UID:34393635-3531-4436-a437-656462653162
DTSTAMP:20260421T145154Z
CATEGORIES:Kartazoon Mitglieder
CLASS:PUBLIC
DESCRIPTION;ALTREP="CID:<FFFF__=0ABBE548DFE235B58f9e8a93d@coffeebean.com>":
 3 old men\n&nbsp\;\n13.4.1981\n14.4.1975\n17.4.1978\n&nbsp\;\n3 alte Widde
 rböcke feiern gemeinsam Geburtstag.\n&nbsp\;\nMusic-styles:\n&nbsp\;\nTran
 ce&nbsp\;/&nbsp\;Tech-Trance / Hardtrance /&nbsp\;Psy &amp\; Progy\n&nbsp\
 ;\nLine-up:\nSimple Dave-Z Sigma Aerow Vanja Gregg\n\n&nbsp\;\nDer Einlass
  gilt nur für Members. Die Location befindet sich im Otto Rupf-Gebäude - E
 ingang bei der Tiefgarage. Zu Fuss ca. 4 Minuten vom Bahnhof Stettbach ent
 fernt. Reichlich Parkplätze um das Gebäude vorhanden.\nHier geht's zum&nbs
 p\;Memberantrag\n&nbsp\;\n&nbsp\;\n&nbsp\;
DTSTART:20160416T210000Z
DTEND:20160417T080000Z
GEO:+47.395519;+8.598752
LOCATION:Club Dampf
ORGANIZER:
SEQUENCE:1
SUMMARY:3 old men
TRANSP:OPAQUE
URL:https://www.kartazoon.ch/events/events-archiv/23-3%20old%20men
END:VEVENT
END:VCALENDAR
