BEGIN:VCALENDAR
VERSION:2.0
PRODID:-//Kartazoon//NONSGML kigkonsult.se iCalcreator 2.41.92//
CALSCALE:GREGORIAN
METHOD:PUBLISH
UID:64333637-6139-4333-a636-623438353630
X-WR-CALNAME:iCagenda
X-WR-CALDESC:Event Management Extension for Joomla!
X-WR-RELCALID:3E26604A-50F4-4449-8B3E-E4F4932D05B5
X-WR-TIMEZONE:UTC
BEGIN:VTIMEZONE
TZID:UTC
END:VTIMEZONE
BEGIN:VEVENT
UID:30633737-6235-4239-b161-636264633561
DTSTAMP:20260421T170422Z
CATEGORIES:Kartazoon Mitglieder
CLASS:PUBLIC
DESCRIPTION;ALTREP="CID:<FFFF__=0ABBE548DFE235B58f9e8a93d@coffeebean.com>":
 Frühlingstanz \nDer Frühling ist gekommen\,\ndie Bäume schlagen aus\,\nda 
 bleibe\, wer Lust hat\,\nmit Sorgen zu Haus!\nWie die Wolken dort wandern
 \nam himmlischen Zelt\,\nso steht auch mir der Sinn in\ndie weite\, weite 
 Welt.\n&nbsp\;\nMusic-styles:\nTech-House\n&nbsp\;\nLine-up:\n23.00-01.30 
 Tricky Jones\n01.30-05.30 Aaron Khaleian meets Vanja\n05.30-08.00 Simus Pa
 ngasius\nDer Einlass gilt nur für Members. Jeder Gast muss mindestens eine
  Tagesmitgliedschaft (Kostenpunkt: CHF15) beantragen! Die Location befinde
 t sich im Otto Rupf-Gebäude - Eingang bei der Tiefgarage. Zu Fuss ca. 4 Mi
 nuten vom Bahnhof Stettbach entfernt. Reichlich Parkplätze um das Gebäude 
 sind vorhanden.\nHier geht's zum Memberantrag\n&nbsp\;
DTSTART:20170422T230000Z
DTEND:20170423T080000Z
GEO:+47.395519;+8.598752
LOCATION:Club Dampf
ORGANIZER:
SEQUENCE:1
SUMMARY:Frühlingstanz
TRANSP:OPAQUE
URL:https://www.kartazoon.ch/events/events-archiv/22-Fr%C3%BChlingstanz
END:VEVENT
END:VCALENDAR
