BEGIN:VCALENDAR
VERSION:2.0
PRODID:-//Kartazoon//NONSGML kigkonsult.se iCalcreator 2.41.92//
CALSCALE:GREGORIAN
METHOD:PUBLISH
UID:35363131-6561-4333-b131-656636323366
X-WR-CALNAME:iCagenda
X-WR-CALDESC:Event Management Extension for Joomla!
X-WR-RELCALID:3E26604A-50F4-4449-8B3E-E4F4932D05B5
X-WR-TIMEZONE:UTC
BEGIN:VTIMEZONE
TZID:UTC
END:VTIMEZONE
BEGIN:VEVENT
UID:37393334-6238-4534-a439-653938336165
DTSTAMP:20260421T145039Z
CATEGORIES:Kartazoon Mitglieder
CLASS:PUBLIC
DESCRIPTION;ALTREP="CID:<FFFF__=0ABBE548DFE235B58f9e8a93d@coffeebean.com>":
 Ramona's&nbsp\;Birthday-Bash\nAnlässlich des 30igsten Geburtstages von&nbs
 p\;Ramona laden wir dich herzlichst ein\, dies gebührend mit uns feiern zu
  kommen.\n21.00-22.00 Fingerfood &amp\; Bowle\n22.00-08.00&nbsp\;Lost in T
 rance\n&nbsp\;\nMusic-styles:\nvariants of Trance 1996 - 2016&nbsp\;\n&nbs
 p\;\nLine-up:\nNonsdrome\nBodo Kaiser\nNow-Here\nSubstance\nDave-Z\nVanja
 \nAerrow\n&nbsp\;\n\nDer Einlass gilt nur für Members. Die Location befind
 et sich im Otto Rupf-Gebäude - Eingang bei der Tiefgarage. Zu Fuss ca. 4 M
 inuten vom Bahnhof Stettbach entfernt. Reichlich Parkplätze um das Gebäude
  vorhanden.\nHier geht's zum&nbsp\;Memberantrag\n&nbsp\;\n&nbsp\;\n&nbsp\;
DTSTART:20160312T210000Z
DTEND:20160313T080000Z
GEO:+47.395519;+8.598752
LOCATION:Club Dampf
ORGANIZER:
SEQUENCE:1
SUMMARY:Ramona's Birthday-Bash
TRANSP:OPAQUE
URL:https://www.kartazoon.ch/events/events-archiv/21-30%20Jahre%20bew%C3%A4
 hrte%20Qualit%C3%A4t
END:VEVENT
END:VCALENDAR
