BEGIN:VCALENDAR
VERSION:2.0
PRODID:-//Kartazoon//NONSGML kigkonsult.se iCalcreator 2.41.92//
CALSCALE:GREGORIAN
METHOD:PUBLISH
UID:38346665-3839-4165-b362-336430323134
X-WR-CALNAME:iCagenda
X-WR-CALDESC:Event Management Extension for Joomla!
X-WR-RELCALID:3E26604A-50F4-4449-8B3E-E4F4932D05B5
X-WR-TIMEZONE:UTC
BEGIN:VTIMEZONE
TZID:UTC
END:VTIMEZONE
BEGIN:VEVENT
UID:32363434-3634-4562-a432-633033626538
DTSTAMP:20260421T130507Z
CATEGORIES:Kartazoon Mitglieder
CLASS:PUBLIC
DESCRIPTION;ALTREP="CID:<FFFF__=0ABBE548DFE235B58f9e8a93d@coffeebean.com>":
 Magic Moments\, das Motto der diesjährigen Strassenparade\nWir nennen es e
 infach nur - 44H\nDa wir an diesem Wochenende nicht die ganzen 44 Stunden 
 dieselbe Musikrichtung spielen wollen haben wir das Ganze in&nbsp\;6 Phase
 n aufgeteilt.\nPhase Warm-up 10.00-14.00\nEin Tipp für alle Frühaufsteher.
  Wir starten mit einem gemeinsamen 'Gipfeli &amp\; Café / Champagner Plaus
 ch'\, offeriert von den Vereinen Kartazoon-Gallery &amp\; Akustik-Produkt.
 \nResident-Djs by Club Dampf\nVanja &amp\; Andialbundy\nPhase Streetparade
 &nbsp\;14.00-18.00&nbsp\;\nRafFX\nDa es doch immer mehr Leute gibt welche 
 die heutige Art Streetparade meiden dachten wir\, dass wir unser Vereinslo
 kal nach dem Warm-up durchgehend geöffnet halten.\nPhase Tech-House Editio
 n 18.00-22.00\nElmar\, Isa Aliu\, Danny White\nPhase Progressiv\, Psy\, Re
 member 22.00-10.00\nF-Act\, Vanja\, Anyken\, Gregg\, Solid NRG\nPhase Mini
 mal\, Techno 10.00-19.00\nSnailbob VS Robin Chip\,&nbsp\;Morris Krebs\, Lu
 ca Barth\, L.u.z.i.\nPhase Remember-Trance 19.00-06.00\nNonsdrome\, Andyal
 bundy\, Vanja\, Nutronec\nDer Einlass gilt nur für jene Personen die eine 
 persönliche Einladung von den Vereinen Kartazoon-Gallery\, Akustik-Produkt
  oder eines DJs\, Helfers bekommen haben. Die Location befindet sich im Ot
 to Rupf-Gebäude - Eingang bei der Tiefgarage. Zu Fuss ca. 4 Minuten vom Ba
 hnhof Stettbach entfernt. Reichlich Parkplätze um das Gebäude vorhanden.\n
 !!! Freier Eintritt für Members von Kartazoon-Gallery oder Akustik-Produkt
 \,\nCHF 15 Unkostenbeitrag für geladene Gäste\, Gästeliste zwingend !!!\nM
 öchtest du mit Sicherheit dabei sein so empfehlen wir dir eine Mitgliedsch
 aft in einem unserer Vereine zu beantragen.\nHier geht's zum&nbsp\;Membera
 ntrag\nEs freuen sich die Organisatoren der Vereine Kartazoon-Gallery und 
 Akustik-Produkt\, DJs und Helfer auf eine ausgelassene Party mit guten Leu
 ten.\n44 Hours - Magic Moments
DTSTART:20150829T100000Z
DTEND:20150831T060000Z
GEO:+47.395519;+8.598752
LOCATION:Club Dampf
ORGANIZER:
SEQUENCE:1
SUMMARY:Celebrate the weekend - Streetparade 2015
TRANSP:OPAQUE
URL:https://www.kartazoon.ch/events/events-archiv/2-Streetparade
END:VEVENT
END:VCALENDAR
