BEGIN:VCALENDAR
VERSION:2.0
PRODID:-//Kartazoon//NONSGML kigkonsult.se iCalcreator 2.41.92//
CALSCALE:GREGORIAN
METHOD:PUBLISH
UID:66666662-6563-4030-b535-616133653931
X-WR-CALNAME:iCagenda
X-WR-CALDESC:Event Management Extension for Joomla!
X-WR-RELCALID:3E26604A-50F4-4449-8B3E-E4F4932D05B5
X-WR-TIMEZONE:UTC
BEGIN:VTIMEZONE
TZID:UTC
END:VTIMEZONE
BEGIN:VEVENT
UID:35363532-3232-4535-b238-643133333033
DTSTAMP:20260421T145800Z
CATEGORIES:Kartazoon Mitglieder
CLASS:PUBLIC
DESCRIPTION;ALTREP="CID:<FFFF__=0ABBE548DFE235B58f9e8a93d@coffeebean.com>":
 Gerne möchten wir dich Einladen den diesjährigen Neujahrswechsel zusammen 
 mit uns in privater Atmosphäre zu verbringen. In unserem gemütlichen Lokal
 \, der Vereine Akustik-Produkt und Kartazoon-Gallery\, werden wir den dies
 jährigen Silvester bereits zum zweiten Mal zelebrieren können.\n&nbsp\;\nM
 usic-styles:\nProgressiv / Techno&nbsp\;\n&nbsp\;\nLine-up:\nAndialbundy\,
 \nL.u.z.i.\nF-Act\nLuca Barth meets Dj A.M. (b.t.b.)\nGregg\nVanja\nDer Ei
 nlass gilt nur für Members und jene Personen die eine persönliche Einladun
 g erhalten haben. Die Location befindet sich im Otto Rupf-Gebäude - Eingan
 g bei der Tiefgarage. Zu Fuss ca. 4 Minuten vom Bahnhof Stettbach entfernt
 . Reichlich Parkplätze um das Gebäude vorhanden.\nDie Macher\, Djs und Hel
 fer freuen sich auf eine ausgelassene Silvesterfeier und wünschen dir auf 
 diesem Weg ein angenehmes Ausklingen des Jahres 2015.\nHier geht's zum&nbs
 p\;Memberantrag
DTSTART:20151231T220000Z
DTEND:20160101T100000Z
GEO:+47.395519;+8.598752
LOCATION:Club Dampf
ORGANIZER:
SEQUENCE:1
SUMMARY:New Years Technology
TRANSP:OPAQUE
URL:https://www.kartazoon.ch/events/events-archiv/19-New%20Years%20Technolo
 gy
END:VEVENT
END:VCALENDAR
