BEGIN:VCALENDAR
VERSION:2.0
PRODID:-//Kartazoon//NONSGML kigkonsult.se iCalcreator 2.41.92//
CALSCALE:GREGORIAN
METHOD:PUBLISH
UID:33633137-6535-4037-b161-666539616335
X-WR-CALNAME:iCagenda
X-WR-CALDESC:Event Management Extension for Joomla!
X-WR-RELCALID:3E26604A-50F4-4449-8B3E-E4F4932D05B5
X-WR-TIMEZONE:UTC
BEGIN:VTIMEZONE
TZID:UTC
END:VTIMEZONE
BEGIN:VEVENT
UID:64656633-6565-4334-a333-306331316434
DTSTAMP:20260423T095000Z
CATEGORIES:Kartazoon Mitglieder
CLASS:PUBLIC
DESCRIPTION;ALTREP="CID:<FFFF__=0ABBE548DFE235B58f9e8a93d@coffeebean.com>":
 Wir laden zum Tanz\nAnyken meets Vanja&nbsp\;- all night long\n&nbsp\;\nMu
 sic-styles:&nbsp\;\nProgressiv / Trance / Remember\nDer Einlass gilt nur f
 ür Members und jene Personen die eine persönliche Einladung erhalten haben
 .Die Location befindet sich im Otto Rupf-Gebäude - Eingang bei der Tiefgar
 age. Zu Fuss ca. 4 Minuten vom Bahnhof Stettbach entfernt. Reichlich Parkp
 lätze um das Gebäude vorhanden.\nHier geht's zum&nbsp\;Memberantrag
DTSTART:20160130T220000Z
DTEND:20160131T060000Z
GEO:+47.395519;+8.598752
LOCATION:Club Dampf
ORGANIZER:
SEQUENCE:1
SUMMARY:Anyken meets Vanja
TRANSP:OPAQUE
URL:https://www.kartazoon.ch/events/events-archiv/18-all%20night%20long-2
END:VEVENT
END:VCALENDAR
