BEGIN:VCALENDAR
VERSION:2.0
PRODID:-//Kartazoon//NONSGML kigkonsult.se iCalcreator 2.41.92//
CALSCALE:GREGORIAN
METHOD:PUBLISH
UID:39316563-3432-4062-a466-363536303436
X-WR-CALNAME:iCagenda
X-WR-CALDESC:Event Management Extension for Joomla!
X-WR-RELCALID:3E26604A-50F4-4449-8B3E-E4F4932D05B5
X-WR-TIMEZONE:UTC
BEGIN:VTIMEZONE
TZID:UTC
END:VTIMEZONE
BEGIN:VEVENT
UID:66353266-6230-4135-b661-366662613561
DTSTAMP:20260421T151400Z
CATEGORIES:In Kollaboration mit ...
CLASS:PUBLIC
DESCRIPTION;ALTREP="CID:<FFFF__=0ABBE548DFE235B58f9e8a93d@coffeebean.com>":
 Laboratory No. 10\nIn Kollaboration&nbsp\;mit F-act und Kartazoon-Gallery
 \n&nbsp\;\nMusic-styles:\nProgressive House / Tech House / Techno\nLine-up
 \n Luca Barth (ZH)\nEines Abends im Oktober trafen wir uns für Gespräche i
 m Club Dampf und dann stand da Luca Barth hinter den Decks. Was ich sah\, 
 lies mich nicht mehr los. Solch eine Power in der Musik und das mit Leib u
 nd Seele vorgetragen... Mit gerade mal 21. Jahren ein Talent des Vereins A
 kustik-Produkt\, das wir euch gerne an der nächsten Laboratory präsentiere
 n möchten und ihr auf keinen Fall verpassen dürft.\nhttp://www.mixcloud.co
 m/LucaBarth/\n O:nur (TG)\nSeit fünf Jahren ist O:nur als DJ nun aktiv. Er
  verzauberte schon das Cafe Gold oder das Provi in Bürglen mit seinen Tech
 no Sets. Mit Freunden zusammen organisierte er die Parat Partys und wird u
 ns am 5.Dezember in eine heisse Techno-Nacht führen.\nhttp://soundcloud.co
 m/onurilik\n F-Act (CH)\nJetlag Digital\, Mistique Music\, Limeroads\, Bar
 oque Records sind nur einige Labels auf denen F-Act seine Musik veröffentl
 icht. Der ursprünglich aus der Ostschweiz stammende DJ und Produzent ist s
 chon seit frühester Kindheit der elektronisch erzeugten Musik verfallen\, 
 begann um 1990 aufzulegen und produzierte vier Jahre später seine ersten e
 igenen Tracks. In Zürichs Clublandschaft massierte er mit seinen energetis
 chen Sets schon im Lotus\, six9six\, Stairs\, Loop38\, u.v.m. das Trommelf
 ell tanzwütiger Nachtschwärmer. Es folgten Gastauftritte bei Radiostatione
 n wie Virus\, LoRa und auch an der Mixmission beim Deutschen Radiosender S
 unshine Live. Seit 2014 ist F-Act Host seiner eigenen Sendung auf Frisky R
 adio\, in der er\, wie auch bei seinen Live-Sets Musik aus den Genres Tech
  House\, Techno\, Progressive House und Tracks\, die schon leicht am Tranc
 e kratzen\, gekonnt vermischt. Seit also gespannt was er an der Laboratory
  aus seiner „Plattenkiste“ zaubert…\nwww.f-act.chwww.facebook.com/FactProd
 ucerDJwww.soundcloud.com/f-actwww.friskyradio.com/show/lost_in_thought\nDe
 r Einlass gilt nur für Members und jene Personen die eine persönliche Einl
 adung erhalten haben. Der Verein behält sich vor\, Gäste welche gegen die 
 Hausordnung verstossen\, vom Anlass auszuschliessen.&nbsp\;Die Veranstaltu
 ng ist für Frauen und Männer ab 18 Jahren. Die Location befindet sich im O
 tto Rupf-Gebäude - Eingang bei der Tiefgarage. Zu Fuss ca. 4 Minuten vom B
 ahnhof Stettbach entfernt. Reichlich Parkplätze um das Gebäude vorhanden.
 \nDie Vereinsmitglieder von Kartazoon-Gallery bezahlen vor 24.00 Uhr keine
 n Eintritt und haben nach 24.00 Uhr eine Eintrittsermässigung von CHF 5.- 
 beim Vorweisen der Mitgliedschaft.\nHier geht's zum&nbsp\;Memberantrag\nEs
  freuen sich Kartazoon\, Djs und Helfer auf eine ausgelassene Party mit gu
 ten Leuten.&nbsp\;
DTSTART:20151205T230000Z
DTEND:20151206T070000Z
GEO:+47.395519;+8.598752
LOCATION:Club Dampf
ORGANIZER:
SEQUENCE:1
SUMMARY:4. Laboratory No.10
TRANSP:OPAQUE
URL:https://www.kartazoon.ch/events/events-archiv/17-laboratory-no-13
END:VEVENT
END:VCALENDAR
