BEGIN:VCALENDAR
VERSION:2.0
PRODID:-//Kartazoon//NONSGML kigkonsult.se iCalcreator 2.41.92//
CALSCALE:GREGORIAN
METHOD:PUBLISH
UID:33383162-3363-4430-b864-363733643961
X-WR-CALNAME:iCagenda
X-WR-CALDESC:Event Management Extension for Joomla!
X-WR-RELCALID:3E26604A-50F4-4449-8B3E-E4F4932D05B5
X-WR-TIMEZONE:UTC
BEGIN:VTIMEZONE
TZID:UTC
END:VTIMEZONE
BEGIN:VEVENT
UID:64326661-3434-4566-b639-613731306161
DTSTAMP:20260421T151314Z
CATEGORIES:Kartazoon Mitglieder
CLASS:PUBLIC
DESCRIPTION;ALTREP="CID:<FFFF__=0ABBE548DFE235B58f9e8a93d@coffeebean.com>":
 Anlässlich des 45igsten Geburtstages von&nbsp\;Patricia Schelbert&nbsp\;la
 den wir dich herzlichst ein\, dies gebührend mit uns feiern zu kommen.\n23
 .00-24.00&nbsp\;Begrüssungsrunde &amp\; Warm-up by Dj Eric\n24.00-00.30&nb
 sp\;Das Geburtstagskind&nbsp\;offeriert für jeden Gast ein&nbsp\;Glas Pros
 ecco\n&nbsp\;\nLine-up\nEric\nChris&nbsp\;de Rebel\nVanja\nBang Goes&nbsp\
 ;\nAaron Khaleian&nbsp\;\nDer Einlass gilt nur für Members und jene Person
 en die eine persönliche Einladung erhalten haben. Die Location befindet si
 ch im Otto Rupf-Gebäude - Eingang bei der Tiefgarage. Zu Fuss ca. 4 Minute
 n vom Bahnhof Stettbach entfernt. Reichlich Parkplätze um das Gebäude vorh
 anden.\nEs freuen sich Patricia\, Vanja\, Djs und Helfer auf eine ausgelas
 sene Party mit guten Leuten.\nHier geht's zum&nbsp\;Memberantrag
DTSTART:20151219T230000Z
DTEND:20151220T080000Z
GEO:+47.395519;+8.598752
LOCATION:Club Dampf
ORGANIZER:
SEQUENCE:1
SUMMARY:Patricia's Birthday-Bash
TRANSP:OPAQUE
URL:https://www.kartazoon.ch/events/events-archiv/15-patricia-s-birthday-ba
 sh
END:VEVENT
END:VCALENDAR
