BEGIN:VCALENDAR
VERSION:2.0
PRODID:-//Kartazoon//NONSGML kigkonsult.se iCalcreator 2.41.92//
CALSCALE:GREGORIAN
METHOD:PUBLISH
UID:32653437-6437-4237-b834-353166656533
X-WR-CALNAME:iCagenda
X-WR-CALDESC:Event Management Extension for Joomla!
X-WR-RELCALID:3E26604A-50F4-4449-8B3E-E4F4932D05B5
X-WR-TIMEZONE:UTC
BEGIN:VTIMEZONE
TZID:UTC
END:VTIMEZONE
BEGIN:VEVENT
UID:33336261-3261-4937-b539-393731313130
DTSTAMP:20260423T113806Z
CATEGORIES:In Kollaboration mit ...
CLASS:PUBLIC
DESCRIPTION;ALTREP="CID:<FFFF__=0ABBE548DFE235B58f9e8a93d@coffeebean.com>":
 Laboratory No. 10\nIn Kollaboration&nbsp\;mit F-act und Kartazoon-Gallery
 \n&nbsp\;\nMusic-styles:\nProgressive House / Tech House / Techno\nLine-up
 \nShane (D)\nÜber unseren Headliner der seit mehr als 20 Jahren im Geschäf
 t ist gäbe es so viel zu erzählen. Als Resident der legendären Hertzclub-P
 arty Serie und dem Cameo-Club in Kaiserslautern erarbeitete sich Shane ein
 en Ruf\, der weit herum hörbar war. Vorerst noch in den verschiedensten Pa
 rty Hochburgen wie etwa Ibiza unterwegs wurde ihm schon bald eine Residenc
 y im legendären Viproom in Shanghai angeboten. Es folgten Touren durch gan
 z Asien und die USA unterbrochen von Gigs bei Radio Sunshine Live. Aber tr
 otz allem findet Shane noch Zeit sich um sein Label (Jetlag Digital) und s
 eine eigenen Produktionen und Remixe zu kümmern.  Wir sind stolz\, dass wi
 r euch Shane an der Laboratory präsentieren dürfen!!! Eine Premiere für di
 e Schweiz!!! Freut euch auf eine geballte Ladung progressiver Sounds!!!\nh
 ttp://www.shane.de/shane/home.htmlhttp://soundcloud.com/jetlag-digitalhttp
 ://www.facebook.com/shane.hoeh\n DanSonic (ZH)\nDa Musik schon immer sein 
 Leben beeinflusst hat\, waren eigene Produktionen und Remixe die logische 
 Konsequenz. Seine Arbeit als Audio-Engineer für Werbespots\, Audio-Books o
 der Dokumentationen ermöglicht es DanSonic immer up to date mit der neuest
 en Technik zu sein\, was seinem hohen Qualitätsanspruch sehr entgegen komm
 t. Natürlich wurde auch Mental X auf DanSonic aufmerksam und lud ihn kurze
 rhand in seine Show auf Radio Virus ein. Auch auf seinem eigenen Label (AA
 A Records) released DanSonic laufend neue Tracks und lässt uns an seiner M
 usik teilhaben. Lass auch du dich am 14. November von DanSonic in die Nach
 t führen und schwing das Tanzbein zu einem seiner grandiosen Sets.\nhttp:/
 /soundcloud.com/dansonichttp://www.facebook.com/DanSonicMusic\n F-Act (CH)
 \nJetlag Digital\, Mistique Music\, Limeroads\, Baroque Records sind nur e
 inige Labels auf denen F-Act seine Musik veröffentlicht. Der ursprünglich 
 aus der Ostschweiz stammende DJ und Produzent ist schon seit frühester Kin
 dheit der elektronisch erzeugten Musik verfallen\, begann um 1990 aufzuleg
 en und produzierte vier Jahre später seine ersten eigenen Tracks. In Züric
 hs Clublandschaft massierte er mit seinen energetischen Sets schon im Lotu
 s\, six9six\, Stairs\, Loop38\, u.v.m. das Trommelfell tanzwütiger Nachtsc
 hwärmer. Es folgten Gastauftritte bei Radiostationen wie Virus\, LoRa und 
 auch an der Mixmission beim Deutschen Radiosender Sunshine Live. Seit 2014
  ist F-Act Host seiner eigenen Sendung auf Frisky Radio\, in der er\, wie 
 auch bei seinen Live-Sets Musik aus den Genres Tech House\, Techno\, Progr
 essive House und Tracks\, die schon leicht am Trance kratzen\, gekonnt ver
 mischt. Seit also gespannt was er an der Laboratory aus seiner „Plattenkis
 te“ zaubert…\nwww.f-act.chwww.facebook.com/FactProducerDJwww.soundcloud.co
 m/f-actwww.friskyradio.com/show/lost_in_thought\nDer Einlass gilt nur für 
 Members und jene Personen die eine persönliche Einladung erhalten haben. D
 er Verein behält sich vor\, Gäste welche gegen die Hausordnung verstossen\
 , vom Anlass auszuschliessen.&nbsp\;Die Veranstaltung ist für Frauen und M
 änner ab 18 Jahren. Die Location befindet sich im Otto Rupf-Gebäude - Eing
 ang bei der Tiefgarage. Zu Fuss ca. 4 Minuten vom Bahnhof Stettbach entfer
 nt. Reichlich Parkplätze um das Gebäude vorhanden.\nDie Vereinsmitglieder 
 von Kartazoon-Gallery bezahlen vor 24.00 Uhr keinen Eintritt und haben nac
 h 24.00 Uhr eine Eintrittsermässigung von CHF 5.- beim Vorweisen der Mitgl
 iedschaft.\nHier geht's zum&nbsp\;Memberantrag\nEs freuen sich Kartazoon\,
  Djs und Helfer auf eine ausgelassene Party mit guten Leuten.&nbsp\;
DTSTART:20151114T230000Z
DTEND:20151115T070000Z
GEO:+47.395519;+8.598752
LOCATION:Club Dampf
ORGANIZER:
SEQUENCE:1
SUMMARY:3. Laboratory No.10
TRANSP:OPAQUE
URL:https://www.kartazoon.ch/events/events-archiv/14-laboratory-no-12
END:VEVENT
END:VCALENDAR
