BEGIN:VCALENDAR
VERSION:2.0
PRODID:-//Kartazoon//NONSGML kigkonsult.se iCalcreator 2.41.92//
CALSCALE:GREGORIAN
METHOD:PUBLISH
UID:31643337-3733-4262-a431-343637346436
X-WR-CALNAME:iCagenda
X-WR-CALDESC:Event Management Extension for Joomla!
X-WR-RELCALID:3E26604A-50F4-4449-8B3E-E4F4932D05B5
X-WR-TIMEZONE:UTC
BEGIN:VTIMEZONE
TZID:UTC
END:VTIMEZONE
BEGIN:VEVENT
UID:61653363-6231-4739-b830-353263313239
DTSTAMP:20260421T145426Z
CATEGORIES:Kartazoon Mitglieder
CLASS:PUBLIC
DESCRIPTION;ALTREP="CID:<FFFF__=0ABBE548DFE235B58f9e8a93d@coffeebean.com>":
 Skorpion B-day Party\n&nbsp\;\nSpecials:\n21:00-22:30 Thai-Buffet by Linda
 \, Bamboo Thai Shop Dübendorf\n22:55-23:05 Gratis Shot für alle Skorpione&
 nbsp\;\n&nbsp\;\nMusic-styles:\nProgressiv / Trance / Psy / Remember\n&nbs
 p\;\nLine-up:\nExcess &amp\; Pace\nDave Z\nNutronec\nVeritas\n&nbsp\;\n\nD
 er Einlass gilt nur für Members und jene Personen die eine persönliche Ein
 ladung erhalten haben. Die Location befindet sich im Otto Rupf-Gebäude - E
 ingang bei der Tiefgarage. Zu Fuss ca. 4 Minuten vom Bahnhof Stettbach ent
 fernt. Reichlich Parkplätze um das Gebäude vorhanden.\nHier geht's zum&nbs
 p\;Memberantrag\n&nbsp\;\n&nbsp\;\n&nbsp\;
DTSTART:20151113T210000Z
DTEND:20151114T060000Z
GEO:+47.395519;+8.598752
LOCATION:Club Dampf
ORGANIZER:
SEQUENCE:1
SUMMARY:Skorpion B-day Party
TRANSP:OPAQUE
URL:https://www.kartazoon.ch/events/events-archiv/13-skorpion-b-day-party
END:VEVENT
END:VCALENDAR
