BEGIN:VCALENDAR
VERSION:2.0
PRODID:-//Kartazoon//NONSGML kigkonsult.se iCalcreator 2.41.92//
CALSCALE:GREGORIAN
METHOD:PUBLISH
UID:37663035-6533-4333-a161-356133393630
X-WR-CALNAME:iCagenda
X-WR-CALDESC:Event Management Extension for Joomla!
X-WR-RELCALID:3E26604A-50F4-4449-8B3E-E4F4932D05B5
X-WR-TIMEZONE:UTC
BEGIN:VTIMEZONE
TZID:UTC
END:VTIMEZONE
BEGIN:VEVENT
UID:66346665-6531-4733-a332-383065363336
DTSTAMP:20260421T104547Z
CATEGORIES:Öffentliche Partys
CLASS:PUBLIC
DESCRIPTION;ALTREP="CID:<FFFF__=0ABBE548DFE235B58f9e8a93d@coffeebean.com>":
 Mit diesem Event wollen wir auch im Jahr 2025 der treuen Kartazoon-Familie
 \, den fleissigen Bienchen und allen Künstlern von Herzen Danke sagen\, Ih
 r alle tragt zu dieser wundervollen\, mittlerweile 19-jährigen Ära bei.\nD
 aydance Walenstadt - 28.06.2025 (nur bei Schönwetter / verschiebe Datum - 
 5.7.2025)Kartazoon &amp\; Strandlokal Neptun freuen sich auf die «Daydance
  Walenstadt» am 28.06.2025 auf der Wiese neben dem Neptun. Der Eintritt is
 t kostenfrei\, wer möchte\, darf uns vor Ort gerne mit einem freiwilligen 
 Beitrag unterstützen.  \nLine-up:\n\nSanasion\nTomy Gips\nVanja\n\n\nWir s
 tarten um 13:00 Uhr mit einem chilligen\, groovigen Sommer-Set und tanzen 
 dann bis 23:00 zu Deep-\, Oriental-\, Afro-\, Latin-\, &amp\; Tech-House.D
 as Strandlokal Neptun mixt dir im Caipi-Mobile die leckersten Caipirinhas 
 und andere erfrischende Drinks zu fairen Preisen. Auch kulinarisch wirst d
 u bestimmt auf deine Kosten kommen.\nWir freuen uns\, mit dir im Sommerwet
 ter am See zu tanzen!
DTSTART:20250628T130000Z
DTEND:20250628T230000Z
GEO:00;0
LOCATION:Walenstadt
ORGANIZER:
SEQUENCE:1
SUMMARY:Daydance Walenstadt - Part 3
TRANSP:OPAQUE
URL:https://www.kartazoon.ch/events/events-archiv/129-daydance-walenstadt-3
END:VEVENT
END:VCALENDAR
