BEGIN:VCALENDAR
VERSION:2.0
PRODID:-//Kartazoon//NONSGML kigkonsult.se iCalcreator 2.41.92//
CALSCALE:GREGORIAN
METHOD:PUBLISH
UID:65633665-3764-4561-b537-326264366130
X-WR-CALNAME:iCagenda
X-WR-CALDESC:Event Management Extension for Joomla!
X-WR-RELCALID:3E26604A-50F4-4449-8B3E-E4F4932D05B5
X-WR-TIMEZONE:UTC
BEGIN:VTIMEZONE
TZID:UTC
END:VTIMEZONE
BEGIN:VEVENT
UID:37623365-3762-4030-b964-656161663231
DTSTAMP:20260421T112943Z
CATEGORIES:Öffentliche Partys
CLASS:PUBLIC
DESCRIPTION;ALTREP="CID:<FFFF__=0ABBE548DFE235B58f9e8a93d@coffeebean.com>":
 Vor 18 Jahren hatten ein paar aktive Menschen die Vision\, gemeinsam die P
 arty-Kultur der Elektronischen Musik zu fördern und eine Community zu grün
 den - Kartazoon war geboren. Dieses Jahr wird das Event-Label volljährig! 
 Diesen 18. Geburtstag wollen wir feiern und der treuen Kartazoon-Familie\,
  den fleissigen Bienchen und allen Künstlern und Künstlerinnen von Herzen 
 DANKE sagen. Ihr alle tragt zu dieser wundervollen\, mittlerweile 18-jähri
 gen Ära bei. \n\nDaydance Walenstadt - 17.08.2024 (nur bei Schönwetter / k
 ein verschiebe Datum)Kartazoon &amp\; Strandlokal Neptun freuen sich auf d
 ie «Daydance Walenstadt» am 17.8.2024 auf der Wiese neben dem Neptun.Der E
 intritt ist kostenfrei\, wer möchte\, darf uns vor Ort gerne mit einem fre
 iwilligen Beitrag unterstützen.  \n\nLine-up:\nAaron KhaleianThanshiRafFXV
 anja\n\nWir starten um 13:00 Uhr mit einem chilligen\, groovigen Sommer-Se
 t und tanzen dann bis 23:00 zu Deep-\, Oriental-\, &amp\; Tech-House.Das S
 trandlokal Neptun mixt dir im Caipi-Mobile die leckersten Caipirinhas und 
 andere erfrischende Drinks zu fairen Preisen. Auch kulinarisch wirst du be
 stimmt auf deine Kosten kommen.\nWir freuen uns\, mit dir auf Kartazoon an
 zustossen und im Sommerwetter am See zu tanzen!
DTSTART:20240817T130000Z
DTEND:20240817T230000Z
GEO:00;0
LOCATION:Walenstadt
ORGANIZER:
SEQUENCE:1
SUMMARY:Daydance Walenstadt
TRANSP:OPAQUE
URL:https://www.kartazoon.ch/events/events-archiv/128-daydance-walenstadt-2
END:VEVENT
END:VCALENDAR
