BEGIN:VCALENDAR
VERSION:2.0
PRODID:-//Kartazoon//NONSGML kigkonsult.se iCalcreator 2.41.92//
CALSCALE:GREGORIAN
METHOD:PUBLISH
UID:65383333-6662-4635-a266-646239633331
X-WR-CALNAME:iCagenda
X-WR-CALDESC:Event Management Extension for Joomla!
X-WR-RELCALID:3E26604A-50F4-4449-8B3E-E4F4932D05B5
X-WR-TIMEZONE:UTC
BEGIN:VTIMEZONE
TZID:UTC
END:VTIMEZONE
BEGIN:VEVENT
UID:61303465-6462-4466-a637-393934663637
DTSTAMP:20260421T105307Z
CATEGORIES:Öffentliche Partys
CLASS:PUBLIC
DESCRIPTION;ALTREP="CID:<FFFF__=0ABBE548DFE235B58f9e8a93d@coffeebean.com>":
 Center Stage - Winteredition @ Silvesterzauber\n\n\nBeim Silvester-Event a
 uf der Stadthausanlage wird ausgelassen gefeiert! Von 14:00 - 17:00 Uhr er
 wartet euch ein spezielles Kinderprogramm. An den Foodständen könnt ihr ku
 linarische Köstlichkeiten aus Nepal\, Indien\, Türkei\, Griechenland\, der
  Schweiz und weiteren Ländern genießen – sowohl vegan als auch non-vegan.
 \n \nAb 20:00 Uhr bringen lokale Zürcher DJs die Bühne mit feinstem Techno
  in verschiedenen Stilen zum Beben. Feiert mit uns bis 02:30 Uhr ins neue 
 Jahr hinein. Ein unvergesslicher Silvesterabend mit Musik\, kulinarischen 
 Genüssen und einer grandiosen Atmosphäre erwartet euch auf der Center Stag
 e. Sei dabei und erlebe den Jahreswechsel inmitten der pulsierenden Stadt!
 \n \nLass dich am Silvesterzauber im Herzen von Zürich von der Vielfalt el
 ektronischer Musik begeistern und tanze mit uns zu Melodic Techno und Tech
 no in zauberhafter Atmosphäre direkt am See.\n\n\n \n\nLine-up:\n \nIndian
 SoulAngelica FraviMarcel WarrenMerakiVanja\n\n\n\n \nWir freuen uns auf de
 inen BesuchTeam Center Stage\, Kartazoon\, Vanja &amp\; Co.\n\n \n\n\n 
DTSTART:20231231T140000Z
DTEND:20240122T030000Z
GEO:00;0
LOCATION:Stadthausanlage Zürich
ORGANIZER:
SEQUENCE:1
SUMMARY:Center Stage - Winteredition @ Silvesterzauber
TRANSP:OPAQUE
URL:https://www.kartazoon.ch/events/events-archiv/127-center-stage-wintered
 ition-silvesterzauber
END:VEVENT
END:VCALENDAR
