BEGIN:VCALENDAR
VERSION:2.0
PRODID:-//Kartazoon//NONSGML kigkonsult.se iCalcreator 2.41.92//
CALSCALE:GREGORIAN
METHOD:PUBLISH
UID:62393362-6433-4736-a265-383439383239
X-WR-CALNAME:iCagenda
X-WR-CALDESC:Event Management Extension for Joomla!
X-WR-RELCALID:3E26604A-50F4-4449-8B3E-E4F4932D05B5
X-WR-TIMEZONE:UTC
BEGIN:VTIMEZONE
TZID:UTC
END:VTIMEZONE
BEGIN:VEVENT
UID:61663566-3236-4264-b963-356632353534
DTSTAMP:20260421T112051Z
CATEGORIES:Öffentliche Partys
CLASS:PUBLIC
DESCRIPTION;ALTREP="CID:<FFFF__=0ABBE548DFE235B58f9e8a93d@coffeebean.com>":
 Daydance Walenstadt - Sommer 2023\nWir vom Eventlabel Kartazoon &amp\; dem
  Strandlokal Neptun / Caipi Mobile freuen uns schon jetzt auf den am 22.7.
 2023 stattfindenden 'Daydance Walenstadt'.\nDer Anlass ist Kostenfrei und 
 findet auf der Wiese\, unmittelbar neben dem Strandlokal Neptun statt.\n&n
 bsp\;\nLine-up:\nPasciTomy Gips VS VanjaPedro PolidoRafFX\n&nbsp\;\n\nWir 
 starten um 12:00 Uhr mit einem chilligen &amp\; groovigem Warm-up Sommerse
 t. Wechseln dann in Richtung Deep-\, Oriental-\, &amp\; Tech-House.\nAb sp
 ätestens 23:00 Uhr werden wir allmählich dem Ende der musikalischen Unterh
 altung zusteuern und den Anlass sanft ausklingen lassen.\nUm uns finanziel
 l zu unterstützen\, kannst du dich an diesem besonderen Anlass mit leckere
 n Caipis &amp\; weiteren Getränken des Strandlokales Neptun zu sehr fairen
  Preisen erfrischen. Auch kulinarisch wirst du bestimmt auf deine Höhen ko
 mmen.\nWir freuen uns auf dein Erscheinen um gemeinsam mit dir einen schön
 en Sommertag am See geniessen zu dürfen.\nIn Zusammenarbeit mit:Strandloka
 l Neptun / Caipi Mobile &amp\; Kartazoon
DTSTART:20230722T120000Z
DTEND:20230722T230000Z
GEO:00;0
LOCATION:Walenstadt / Strandlokal Neptun
ORGANIZER:
SEQUENCE:1
SUMMARY:Daydance Walenstadt
TRANSP:OPAQUE
URL:https://www.kartazoon.ch/events/events-archiv/126-daydance-walenstadt
END:VEVENT
END:VCALENDAR
