BEGIN:VCALENDAR
VERSION:2.0
PRODID:-//Kartazoon//NONSGML kigkonsult.se iCalcreator 2.41.92//
CALSCALE:GREGORIAN
METHOD:PUBLISH
UID:30663535-6533-4663-b039-613935386563
X-WR-CALNAME:iCagenda
X-WR-CALDESC:Event Management Extension for Joomla!
X-WR-RELCALID:3E26604A-50F4-4449-8B3E-E4F4932D05B5
X-WR-TIMEZONE:UTC
BEGIN:VTIMEZONE
TZID:UTC
END:VTIMEZONE
BEGIN:VEVENT
UID:34616630-3232-4931-b364-646232323330
DTSTAMP:20260423T113843Z
CATEGORIES:Öffentliche Partys
CLASS:PUBLIC
DESCRIPTION;ALTREP="CID:<FFFF__=0ABBE548DFE235B58f9e8a93d@coffeebean.com>":
 \nCENTER STAGE - 3 Days Electronic Music Festival&nbsp\;@zuerifaescht&nbsp
 \;2023!\nWir sprechen ein buntes Publikum an\, welches mit uns mitten in Z
 ürich unmittelbar am See in harmonischer Umgebung zu elektronischer Musik 
 tanzen möchte.Freitag: Techno &amp\; Melodic TechnoSamstag: Progressive &a
 mp\; Psy-TranceSonntag: Downbeat\, Deep House\, Tech-House\, Oriental Hous
 eKulinarische vegane- und non-vegane KöstlichkeitenDrinks\, Shots\, Caipir
 inhas\, Softgetränke bei verschiedenen BarbetriebenKomm vorbei und erlebe\
 , wie bunt es bei uns auf der Center Stage zu und her geht!&nbsp\;\n&nbsp\
 ;\nGehörst auch du noch immer zu den zahlreichen Facebook-usern. Siehe daz
 u unsere neuen Facebookseiten\nCenter Stage Electronic Music Festival Züri
  Fäscht\n\nCenter Stage (Veranstaltungsseite - Facebook)\n&nbsp\;\nAn dies
 er Stelle möchten wir euch gerne bereits darauf hinweisen.\nBitte benutzt 
 die Abfalleimer und Aschenbecher.&nbsp\;\nGlasflaschen werden auf unserem 
 Areal nicht gerne gesehen.\nUnsere Putzequipe sowie die Füsse der Barfusst
 änzer würden es sehr begrüssen\, wenn ihr euch an diese Bitten halten könn
 tet.\n&nbsp\;\nWir freuen uns auf das kommende Zürichfäscht 2023 und bedan
 ken uns für euren Respekt zur Natur und euren Mitmenschen.\n&nbsp\;\nEinen
  grossen Dank an unsere Freunde für die tolle Unterstützung.\n&nbsp\;\n&nb
 sp\;\n\n\n\n\n\n\n&nbsp\;\n&nbsp\;
DTSTART:20230707T170000Z
DTEND:20230709T230000Z
GEO:00;0
LOCATION:Rechtes See-Ufer beim Kugelbrunnen
ORGANIZER:
SEQUENCE:1
SUMMARY:CENTER STAGE @ Züri Fäscht 2023
TRANSP:OPAQUE
URL:https://www.kartazoon.ch/events/events-archiv/125-center-stage-zueri-fa
 escht-2023
END:VEVENT
END:VCALENDAR
