BEGIN:VCALENDAR
VERSION:2.0
PRODID:-//Kartazoon//NONSGML kigkonsult.se iCalcreator 2.41.92//
CALSCALE:GREGORIAN
METHOD:PUBLISH
UID:65393664-3435-4434-b965-663734663664
X-WR-CALNAME:iCagenda
X-WR-CALDESC:Event Management Extension for Joomla!
X-WR-RELCALID:3E26604A-50F4-4449-8B3E-E4F4932D05B5
X-WR-TIMEZONE:UTC
BEGIN:VTIMEZONE
TZID:UTC
END:VTIMEZONE
BEGIN:VEVENT
UID:31306263-3764-4166-a131-643366346134
DTSTAMP:20260423T134200Z
CATEGORIES:Öffentliche Partys
CLASS:PUBLIC
DESCRIPTION;ALTREP="CID:<FFFF__=0ABBE548DFE235B58f9e8a93d@coffeebean.com>":
 Familienabend\nUnsere Vision der Zauberlampe kann weiter gedeihen.\n&nbsp\
 ;\nAuf der Suche nach einem geeigneten Lokal erwies sich der Klub Komplex 
 mit seinem Backstein-Gemäuer als äusserst charmant und ideal geeignet.\n&n
 bsp\;\nMusic-styles:\nVon Techno bis zu Psychedelic Goa. Unsere Künstler i
 m Fokus der nächsten Party.\n&nbsp\;\n&lt\;Meraki&gt\;&lt\;Angelica Fravi&
 gt\;&lt\;Cämix&gt\;&lt\;Vanja&gt\;\n&nbsp\;\nTicketpreise:\nVVK:Familienmi
 tglied CHF 25.-Regulär CHF 35.-\n&nbsp\;\nAbendkasse:Familienmitglied CHF 
 35.-Regulär CHF 45.-\n&nbsp\;\nExklusive für Members und geladene Gäste: F
 amilien-Apéro (21:00 - 22:00 Uhr)\n&nbsp\;\nWir werden mit Sicherheit Tick
 ets für die Abendkasse zurückhalten\, wenn du jedoch mit Garantie am Anlas
 s teilhaben möchtest empfehlen wir dir\, frühzeitig im VVK ein Ticket zu b
 estellen.\n&nbsp\;\nWeitere Infos: Zauberlampe\n&nbsp\;\nWir garantieren d
 ir magische Partynächte und freuen uns schon jetzt auf dich!\nCora &amp\; 
 das Zauberlampe-Team\nBeginn: 22:00 UhrEnde: 06:00 Uhr\nLocation:\nKomplex
  Klub\nRollstuhlplätze: normales Ticket\nAltersbeschränkung: 18+
DTSTART:20221217T220000Z
DTEND:20221218T060000Z
GEO:00;0
LOCATION:Komplex Klub
ORGANIZER:
SEQUENCE:1
SUMMARY:Familienabend
TRANSP:OPAQUE
URL:https://www.kartazoon.ch/events/events-archiv/123-familienabend
END:VEVENT
END:VCALENDAR
