BEGIN:VCALENDAR
VERSION:2.0
PRODID:-//Kartazoon//NONSGML kigkonsult.se iCalcreator 2.41.92//
CALSCALE:GREGORIAN
METHOD:PUBLISH
UID:61643836-3231-4134-b439-353734633539
X-WR-CALNAME:iCagenda
X-WR-CALDESC:Event Management Extension for Joomla!
X-WR-RELCALID:3E26604A-50F4-4449-8B3E-E4F4932D05B5
X-WR-TIMEZONE:UTC
BEGIN:VTIMEZONE
TZID:UTC
END:VTIMEZONE
BEGIN:VEVENT
UID:62653566-3166-4634-a236-303266343861
DTSTAMP:20260423T131215Z
CATEGORIES:Öffentliche Partys
CLASS:PUBLIC
DESCRIPTION;ALTREP="CID:<FFFF__=0ABBE548DFE235B58f9e8a93d@coffeebean.com>":
 Iono Music Labelnight - Zurich\nIono-Music (Berlin) ist an Festivals auf d
 er ganzen Welt zuhause\, die Verbindung zu Zürich und der Schweiz ist aber
  eine ganz besondere. Wir freuen uns darauf bekannte\, neue und etablierte
  Iono-Music Acts im Sektor 11 (ehemals OXA) zusammen mit euch geniessen zu
  dürfen. Psy-Progressive-Trance at its best. Ein zweiter Floor mit heimisc
 hen DJ's lädt ebenfalls ein das Tanzbein zu schwingen\, last euch überrasc
 hen. Wer zwischen den Beats eine Verschnaufpause braucht findet im grosszü
 gigen Outdoor/Chill-Bereich eine Oase der Ruhe. Mit Vorverkaufticket&nbsp\
 ;ist der Einlass garantiert\, Abendkasse je nach Verfügbarkeit. Wir freuen
  uns auf dich und mit dir die Nacht zum Tag zu machen.\nMusic-styles:\nPsy
  - Progressive - Trance &amp\; Techno\n&nbsp\;\n\n\nProgramm\n\n\nEstefano
  Haze (DK)One Function (ISR)Mindbenderz (CH / DE)Cubixx (DE)Gipsy Soul (AT
 )Dual Vision (IT)Drift Away (DK)Numayma (FR)Vanja (CH)\n&nbsp\;\n\nTicketp
 reise:\n&nbsp\;\nEarly Bird CHF 30.- bis 28.2.22 - 24:00 UhrRegulär CHF 40
 .-Abendkasse CHF 50.-Reduzierter Eintrittspreis für Mitglieder von Zauberl
 ampeInfos via&nbsp\;www.zauberlampe.chAnmeldung für eine gratis Mitgliedsc
 haft unter dem Register 'Join the family'&nbsp\;\n\n&nbsp\;\n\nSpecials &a
 mp\; weitere Infos:\n\nAbendkasse\nWir werden mit Sicherheit Tickets für d
 ie Abendkasse zurückhalten\, wenn du jedoch mit Garantie am Anlass teilhab
 en möchtest empfehlen wir dir\, frühzeitig im VVK ein Ticket zu bestellen.
 \nBeginn: 22:00 UhrEnde: 08:00 Uhr\nLocation:\nSektor 11\nAndreasstrasse 7
 0\, 8050 Zürich\nRollstuhlplätze: normales Ticket\nAltersbeschränkung: 18+
DTSTART:20220325T220000Z
DTEND:20220326T080000Z
GEO:00;0
LOCATION:Sektor 11
ORGANIZER:
SEQUENCE:1
SUMMARY:Iono Night Zürich
TRANSP:OPAQUE
URL:https://www.kartazoon.ch/events/events-archiv/121-iono-night-zuerich
END:VEVENT
END:VCALENDAR
