BEGIN:VCALENDAR
VERSION:2.0
PRODID:-//Kartazoon//NONSGML kigkonsult.se iCalcreator 2.41.92//
CALSCALE:GREGORIAN
METHOD:PUBLISH
UID:31356565-3638-4963-a461-666263633738
X-WR-CALNAME:iCagenda
X-WR-CALDESC:Event Management Extension for Joomla!
X-WR-RELCALID:3E26604A-50F4-4449-8B3E-E4F4932D05B5
X-WR-TIMEZONE:UTC
BEGIN:VTIMEZONE
TZID:UTC
END:VTIMEZONE
BEGIN:VEVENT
UID:34336561-6162-4565-a139-386564643137
DTSTAMP:20260423T132139Z
CATEGORIES:Öffentliche Partys
CLASS:PUBLIC
DESCRIPTION;ALTREP="CID:<FFFF__=0ABBE548DFE235B58f9e8a93d@coffeebean.com>":
 Iono Music Labelnight - Zurich\nIono-Music (Berlin) ist an Festivals auf d
 er ganzen Welt zuhause\, die Verbindung zu Zürich und der Schweiz ist aber
  eine ganz besondere. Wir freuen uns darauf bekannte\, neue und etablierte
  Iono-Music Acts im Sektor 11 (ehemals OXA) zusammen mit euch geniessen zu
  dürfen. Psy-Progressive-Trance at its best. Ein zweiter Floor mit heimisc
 hen DJ's lädt ebenfalls ein das Tanzbein zu schwingen\, last euch überrasc
 hen. Wer zwischen den Beats eine Verschnaufpause braucht findet im grosszü
 gigen Outdoor/Chill-Bereich eine Oase der Ruhe. Mit Vorverkaufticket ist d
 er Einlass garantiert\, Abendkasse je nach Verfügbarkeit. Wir freuen uns a
 uf dich und mit dir die Nacht zum Tag zu machen.\nMusic-styles:\nPsy - Pro
 gressive - Trance &amp\; Techno\n&nbsp\;\n\n\nProgramm\nLabel Legends \n&n
 bsp\;\nCubixx (DE)\nHinap (DE)\nMindbenderz live (DE)\nAioaska (AT)\nProfi
 ler (CH)\n&nbsp\;\n&nbsp\;\nLocal Heroes\nFace Design (CH)\nDream (CH)\nGr
 egg (CH)\nVanja (CH)\n\n\n&nbsp\;\n&nbsp\;Ticketvorverkauf via Eventfrog:
 \n&nbsp\;Eventfrog - VVK\nAbendkasse\nWir werden mit Sicherheit Tickets fü
 r die Abendkasse zurückhalten\, wenn du jedoch mit Garantie am Anlass teil
 haben möchtest empfehlen wir dir\, frühzeitig im VVK ein Ticket zu bestell
 en.\nBeginn: 22:00 UhrEnde: 08:00 Uhr\nLocation:\nSektor 11\nAndreasstrass
 e 70\, 8050 Zürich\nRollstuhlplätze: normales Ticket\nAltersbeschränkung: 
 18+
DTSTART:20211015T220000Z
DTEND:20211016T080000Z
GEO:00;0
LOCATION:Sektor 11
ORGANIZER:
SEQUENCE:1
SUMMARY:Iono Music Labelnight - Zurich
TRANSP:OPAQUE
URL:https://www.kartazoon.ch/events/events-archiv/120-iono-music-labelnight
 -zurich
END:VEVENT
END:VCALENDAR
