BEGIN:VCALENDAR
VERSION:2.0
PRODID:-//Kartazoon//NONSGML kigkonsult.se iCalcreator 2.41.92//
CALSCALE:GREGORIAN
METHOD:PUBLISH
UID:64343931-3630-4436-b262-643439313134
X-WR-CALNAME:iCagenda
X-WR-CALDESC:Event Management Extension for Joomla!
X-WR-RELCALID:3E26604A-50F4-4449-8B3E-E4F4932D05B5
X-WR-TIMEZONE:UTC
BEGIN:VTIMEZONE
TZID:UTC
END:VTIMEZONE
BEGIN:VEVENT
UID:31323830-3061-4338-b937-616163663131
DTSTAMP:20260423T092918Z
CATEGORIES:Kartazoon Mitglieder
CLASS:PUBLIC
DESCRIPTION;ALTREP="CID:<FFFF__=0ABBE548DFE235B58f9e8a93d@coffeebean.com>":
 Halloween&nbsp\;@ Club Dampf\nSpecials:&nbsp\;\nDresscode &amp\; Deko\nTra
 urig aber wahr... Dj Indian wird auf Ende 2015 seine DJ-Phase beenden. Ums
 o erfreulicher\, dass er ein allerletztes Set für Kartazoon spielen wird.&
 nbsp\;\n&nbsp\;\nMusic-styles:\nProgressive / Trance / Psy / Remember\n&nb
 sp\;\nLine-up:\nIndian\nCode Red\nNow-Here\nGregg\nVanja\nEs würde uns fre
 uen viele Mitglieder anzutreffen\, welche sich für die Halloween-Party ext
 ra in eine passende Garderobe&nbsp\;werfen.\nDresscode (erwünscht) = freie
 r Eintritt\nohne&nbsp\;passendes Outfit&nbsp\;= CHF 10.- Eintritt\nDer Ein
 lass gilt nur für Members und jene Personen die eine persönliche Einladung
  erhalten haben. Die Location befindet sich im Otto Rupf-Gebäude - Eingang
  bei der Tiefgarage. Zu Fuss ca. 4 Minuten vom Bahnhof Stettbach entfernt.
  Reichlich Parkplätze um das Gebäude vorhanden.\nHier geht's zum&nbsp\;Mem
 berantrag
DTSTART:20151031T220000Z
DTEND:20151101T070000Z
GEO:+47.395519;+8.598752
LOCATION:Club Dampf
ORGANIZER:
SEQUENCE:1
SUMMARY:Halloween
TRANSP:OPAQUE
URL:https://www.kartazoon.ch/events/events-archiv/12-halloween
END:VEVENT
END:VCALENDAR
