BEGIN:VCALENDAR
VERSION:2.0
PRODID:-//Kartazoon//NONSGML kigkonsult.se iCalcreator 2.41.92//
CALSCALE:GREGORIAN
METHOD:PUBLISH
UID:33366363-3532-4365-a434-386565653130
X-WR-CALNAME:iCagenda
X-WR-CALDESC:Event Management Extension for Joomla!
X-WR-RELCALID:3E26604A-50F4-4449-8B3E-E4F4932D05B5
X-WR-TIMEZONE:UTC
BEGIN:VTIMEZONE
TZID:UTC
END:VTIMEZONE
BEGIN:VEVENT
UID:62373733-6139-4362-b538-616635373433
DTSTAMP:20260423T132320Z
CATEGORIES:Kartazoon Mitglieder
CLASS:PUBLIC
DESCRIPTION;ALTREP="CID:<FFFF__=0ABBE548DFE235B58f9e8a93d@coffeebean.com>":
 Update: 30.7.2021 - 12:00\n&nbsp\;\nMit schweren Herzen\, doch der Vernunf
 t wegen\, wird der Anlass - 1. Augustfeier mit Family &amp\; Freunden - ni
 cht durchgeführt !!! Die Wettergötter meinen es wirklich gar nicht gut mit
  dem diesjährigen 1. August 2021. Auch wenn die Waldhütte bereits bezahlt 
 ist und sich viele Freunde und Bekannte freuten. Nur drinnen Feiern zu kön
 nen war nicht der Plan dieses Events und somit wurde Heute entschieden\, d
 er Anlass findet nicht statt.\n&nbsp\;\nTrotzdem wünschen wir euch an dies
 er Stelle einen schönen 1. August 2021.\n&nbsp\;\nKleines Trösterli: Wir s
 ind aktuell mit Hochdruck daran\, einen frischen Kartazoon Event neu ins L
 eben zu rufen.\nWas wir gerne schon mal verraten können und ihr euch gleic
 h in eurer Agenda notieren könnt.\n&nbsp\;\n15.10.2021 @ Sektor 11 (ehem. 
 OXA) - 3 Floors&nbsp\;\n--------------------------------------------------
 ------------------\n&nbsp\;\n&nbsp\;\n&nbsp\;\n&nbsp\;\n&nbsp\;\n&nbsp\;\n
 &nbsp\;\n&nbsp\;\n&nbsp\;\n1. Augustfeier mit Family &amp\; Freunden\nAnlä
 sslich 15 Jahre Kartazoon - 730 Jahre Schweiz\n&nbsp\;\nNach der Schliessu
 ng des Vereinslokales Dampf - Ende 2019 und einer längeren Durststrecke\, 
 welche wir alle durchleben durften\, freut es uns umso mehr\, Euch für ein
 e kleine aber feine Feier einladen zu dürfen. \n&nbsp\;\n\n\nNur für regis
 trierte Gäste der Veranstaltung !!!\nSiehe dazu den Button grün oben recht
 s beim Beschrieb der Veranstaltung.\nEine Kontrolle wird durch unser Siche
 rheitspersonal\, welches auf dem Gelände patroulliert\, in regelmässigen A
 bständen durchgeführt.\n\n&nbsp\;\n- Der Anlass ist vollumfänglich offerie
 rt inkl. einem kleinen Feuerwerk ab 22:00 Uhr\n- Getränke und weitere Verp
 flegung darf selbst mitgebracht werden\n\n\n- Keine reguläre Bar vorhanden
 \n- Grillstelle vorhanden\n- SPENDEN HERZLICH WILLKOMMEN\nBitte Eure Abfäl
 le selbstständig in den dafür vorgesehenen Abfallsäcken &amp\; Abfalleimer
 n entsorgen.\n\n\nWo: Waldhütte Ziegelhöhe (Hüttenkopfstrasse\, Schwamendi
 ngen\, 8051 Zürich)\nWann: 13:00 - 01:00\n&nbsp\;\nDer Entscheid\, ob die 
 Jubiläumsfeier aufgrund der Wetterlage definitiv stattfinden kann\, wird h
 ier auf Kartazoon ab dem 30.7.2021 - 12:00 Mittags publiziert werden.\n&nb
 sp\;\n\nAnfahrt:\n&nbsp\;\n&nbsp\;\nMit dem Auto: Das Parkieren unmittelba
 r bei der Walhütte ist verboten\, daher empfehlen wir wenn immer möglich m
 it den ÖV anzureisen\nMit den ÖV: Bus-Haltestelle (75er Linie) Zürich\, Fr
 iedrichstrasse / danach max.10 Minuten Fussmarsch bis Waldhütte Ziegelhöhe
 \n&nbsp\;\nEs würde uns freuen auch mit Dir anzustossen und bis in den Abe
 nd ausgelassen Feiern zu dürfen.\nDas OK-Team von Kartazoon bedankt sich f
 ür Euren treuen Support und wünscht weiterhin schöne Sommermomente.
DTSTART:20210801T130000Z
DTEND:20210802T010000Z
GEO:00;0
LOCATION:Waldhütte Ziegelhöhe
ORGANIZER:
SEQUENCE:1
SUMMARY:15 Jahre Kartazoon - 730 Jahre Schweiz
TRANSP:OPAQUE
URL:https://www.kartazoon.ch/events/events-archiv/119-15-jahre-kartazoon
END:VEVENT
END:VCALENDAR
