BEGIN:VCALENDAR
VERSION:2.0
PRODID:-//Kartazoon//NONSGML kigkonsult.se iCalcreator 2.41.92//
CALSCALE:GREGORIAN
METHOD:PUBLISH
UID:33383032-3237-4965-a363-616336663562
X-WR-CALNAME:iCagenda
X-WR-CALDESC:Event Management Extension for Joomla!
X-WR-RELCALID:3E26604A-50F4-4449-8B3E-E4F4932D05B5
X-WR-TIMEZONE:UTC
BEGIN:VTIMEZONE
TZID:UTC
END:VTIMEZONE
BEGIN:VEVENT
UID:34326365-6363-4030-a533-303139653835
DTSTAMP:20260421T122443Z
CATEGORIES:Öffentliche Partys
CLASS:PUBLIC
DESCRIPTION;ALTREP="CID:<FFFF__=0ABBE548DFE235B58f9e8a93d@coffeebean.com>":
 \nSYNERGY New Year at Sektor11 Zurich\n2 DANCEFLOORS | 21:00 → 07:00\nMAIN
 FLOOR - Trance\nDARREN PORTER ? Who's Afraid Of 138?!\, FSOE\, Outburst→ T
 ransmission\, Dreamstate\, Untold Festival? facebook.com/darrenportermusic
 ▶ TALLA 2XLC ? Subculture\, In Trance We Trust\, Tetsuo→ Mayday\, Nature O
 ne\, Tomorrowland? facebook.com/talla2xlcfansite▶ BINARY FINARY ? Subcultu
 re\, In Trance We Trust\, Tetsuo→ Armada\, Noom Records\, In Trance We Tru
 st? facebook.com/binaryfinary▶ MADWAVE ? Future Sound Of Egypt\, In Trance
  We Trust\, Phoenix Rec.→ Captured Festival\, Street Parade\, Nature One? 
 facebook.com/madwave▶ DAVE JOY ? Grotesque\, Joyride Music\, Drizzly Eclip
 se→ Motion Festival\, Trance.Mission\, Beatparade? facebook.com/davejoyoff
 icial▶ CORRADO BAGGIERI ? Uplift Recordings\, Phoenix Recordings\, Blue So
 ho→ Street Parade\, Trancelandscape\, Panama? facebook.com/corradobaggieri
 music▶ R-TEC ? Phoenix Recordings\, Redux\, Legacy of Trance→ Alte Kaserne
 \, Schlaflos\, SpaceMonki? facebook.com/rtecmusic▶ ANYKEN ? AVA White→ Str
 eet Parade\, Excelsis\, Recall? facebook.com/djanyken▶ DAVE ZEE ? Joyride 
 Recordings→ We Love New Trance\, White Wolf\, Rave Reunion? facebook.com/d
 avezeeofficial▶ CHRISTIAN K. ? UNLTD Recordings→ Trance.Mission\, Nature O
 ne\, Lake Parade? facebook.com/djchristiank▶ ANDY → Street Parade\, Lake P
 arade\, Back2Noize Radio? facebook.com/andyweiss.ch\nPRIVE FLOOR - Deep &a
 mp\; Progressive\nSupported by ShinyPeople &amp\; Kartazoon → shinypeople.
 ch | kartazoon.ch\nDJ DREAM ? Iboga Records\, Joyride Music\, Turning Whee
 l→ Grodoonia\, Sensor\, OXA? facebook.com/dj-dream-ch-61095359387▶ DJ SIMP
 LE? Trauma\, Joyride Music\, Voice Noise→ ShinyPeople? facebook.com/realdj
 simple▶ BODO KAISER? AVA White\, Phoenix Recordings\, Tangled Audio→ Stree
 t Parade\, Tranceformers\, Nature One? facebook.com/bodokaisermusic▶ VANJA
 → Kartazoon? facebook.com/vanja.muller.7▶ COZMO→ Street Parade\, Borderlin
 e\, Lake Parade? facebook.com/cozmomusic▶ DJ INDIAN? Joyride Music Progres
 sive\, Turning Wheel\, TBA→ ShinyPeople? facebook.com/djindianofficial▶ CL
 AUDIO SUARA? Joyride Music Progressive→ Gate54? facebook.com/claudio.suara
 \n&nbsp\;\nPRELOCATION / PRESALE / VORVERKAUF→ ticketino.com/en/Event/SYNE
 RGY-NEW-YEAR-Sektor11/94079▶ EARLY BIRD TICKET (SOLD OUT!)::: Strictly lim
 ited→ CHF 20.- (+com)▶ STANDARD TICKET→ CHF 30.- (+com)▽ AUX CAISSES / AT 
 THE DOORS / ABENDKASSE→ CHF/EUR 40.-▶ PAS DE GUESTLIST! NO GUESTLIST! KEIN
 E GÄSTELISTE!\n&nbsp\;\nVIP TABLE RESERVATIONS→ reservation@synergy-events
 .ch▂▂▂▂▂▂▂▂▂▂▂▂▂▂▂▂▂▂▂▂▂▂▽ ACCOMODATION / HOTELS→ bit.ly/Oerlikon_Accomoda
 tions▂▂▂▂▂▂▂▂▂▂▂▂▂▂▂▂▂▂▂▂▂▂▽ ADDRESS→ sektor11 (ex-OXA)→ Andreasstrasse 70
 → 8050 Zürich-Oerlikon→ Switzerland→ www.sektor11.ch→ goo.gl/maps/paeemG11
 bzXrGZXb7▂▂▂▂▂▂▂▂▂▂▂▂▂▂▂▂▂▂▂▂▂▂▽ CONNECT WITH SYNERGY EVENTS→ www.synergy-
 events.ch→ www.facebook.com/synergyofficiel→ www.twitter.com/synergyoffici
 el→ www.soundcloud.com/synergyofficiel→ www.youtube.com/synergyeventsch→ w
 ww.instagram.com/synergyofficial\n\n&nbsp\;
DTSTART:20191231T210000Z
DTEND:20200101T070000Z
GEO:00;0
LOCATION:Sektor 11
ORGANIZER:
SEQUENCE:1
SUMMARY:SYNERGY New Year at Sektor11 Zurich
TRANSP:OPAQUE
URL:https://www.kartazoon.ch/events/events-archiv/115-synergy-new-year-at-s
 ektor11-zurich
END:VEVENT
END:VCALENDAR
