BEGIN:VCALENDAR
VERSION:2.0
PRODID:-//Kartazoon//NONSGML kigkonsult.se iCalcreator 2.41.92//
CALSCALE:GREGORIAN
METHOD:PUBLISH
UID:66613563-3433-4265-b037-323363386432
X-WR-CALNAME:iCagenda
X-WR-CALDESC:Event Management Extension for Joomla!
X-WR-RELCALID:3E26604A-50F4-4449-8B3E-E4F4932D05B5
X-WR-TIMEZONE:UTC
BEGIN:VTIMEZONE
TZID:UTC
END:VTIMEZONE
BEGIN:VEVENT
UID:39643335-3030-4138-b633-353866386238
DTSTAMP:20260421T121935Z
CATEGORIES:Öffentliche Partys
CLASS:PUBLIC
DESCRIPTION;ALTREP="CID:<FFFF__=0ABBE548DFE235B58f9e8a93d@coffeebean.com>":
 \nTNT &amp\; Dynamite\n\nWir möchten mit dem frischgebackenen Eventlabel T
 NT &amp\; Dynamite in erster Linie diejenigen Ansprechen\, welche es schät
 zen\, während einer Partynacht gleich auf 2 Floors die etwas zügigeren Bea
 ts hören und fühlen zu können. Aus diesem Grunde werden wir ab Februar 202
 0\, erstmals im Floor Club - Kloten\, eine bis anhin noch nie vorhandene Z
 usammenarbeit mehrerer Sublabels starten. Jeweils an einem der letzten Fre
 itage der geraden Monate werden wir auf dem TNT- &amp\; Dynamite-Floor Mus
 ik aus den Kategorien des Techno &amp\; Trance zum Besten geben. Der erste
  Event dieser neuen Partyreihe findet am 28. Februar 2020 statt.TNT Floor 
 / 22.00 - 06.00DreamAnykenVanja F-ActDynamite Floor / 22.00 - 06.00\nMerak
 iCut A. KaosFredy SMarcel WarrenWir freuen uns über viele bekannte\, als a
 uch frische oder weniger bekannte Gesichter und schauen mit Zuversicht in 
 eine neue Ära mit grossem Potential.
DTSTART:20200228T220000Z
DTEND:20200229T060000Z
GEO:00;0
LOCATION:Floor Club
ORGANIZER:
SEQUENCE:1
SUMMARY:TNT & Dynamite
TRANSP:OPAQUE
URL:https://www.kartazoon.ch/events/events-archiv/114-tnt-dynamite
END:VEVENT
END:VCALENDAR
