BEGIN:VCALENDAR
VERSION:2.0
PRODID:-//Kartazoon//NONSGML kigkonsult.se iCalcreator 2.41.92//
CALSCALE:GREGORIAN
METHOD:PUBLISH
UID:36613833-3534-4232-a639-633230323034
X-WR-CALNAME:iCagenda
X-WR-CALDESC:Event Management Extension for Joomla!
X-WR-RELCALID:3E26604A-50F4-4449-8B3E-E4F4932D05B5
X-WR-TIMEZONE:UTC
BEGIN:VTIMEZONE
TZID:UTC
END:VTIMEZONE
BEGIN:VEVENT
UID:36303836-3432-4234-b133-376538333637
DTSTAMP:20260421T122246Z
CATEGORIES:Kartazoon Mitglieder
CLASS:PUBLIC
DESCRIPTION;ALTREP="CID:<FFFF__=0ABBE548DFE235B58f9e8a93d@coffeebean.com>":
 Recall - the last at dampf\n&nbsp\;\nDie 4. Recall im Dampf wird auch zugl
 eich die letzte sein\, bevor der Club seine Türen am 5. Oktober für immer 
 schliessen wird...Full House und eine super Stimmung mit Top DJ`s war die 
 Billanz der letzten Recall Partys und das wollen wir auch an dieser beibeh
 alten.Für diesen Event haben wir uns etwas spezielles ausgedacht.Mt DJ SAK
 IN &amp\; FRIENDS (D) &amp\; CORES (D) werden 2 Headliners zugast sein die
  zum ersten mal überhaupt an der RECALL sowie auch zum ersten mal im Club 
 Dampf sein werden.Auch Vine the Lakeman &amp\; Dj Screech (D) aus der Bode
 nsee - Region feiern ihre Premiere bei uns.Ausserdem werden Anyken &amp\; 
 Arachno an diesen Abend ihre B-Day feiern.Auch wieder dabei sein wird Code
  Red\, der Berner Rememeber Spezialist der immer wieder Top Classics hinbr
 ettert.Dj Now-Here\, der mittlerweile Recall Resident ist\, ist immer wied
 er für ein Hammer Set bekannt.Der Hausherr Vanja der zum Abschluss auch no
 chmal sein bestes geben wird mit eienm History Vinyl Set.Und auch zum erst
 en mal dabei\, Deep Teryx der diese Party mit eienem Vinyl Progressive / G
 oa Trance Set beenden wird.Von Anfang bis Schluss wird es knallen\, so sic
 her wie das Amen in der Kirche ♥ Line Up:** DJ SAKIN &amp\; FRIENDS ** (Ge
 rmany)overdose records\, clone 2.1 rechttps://www.facebook.com/djsakinandf
 riends/https://www.youtube.com/watch?v=nHDXp55C_Skhttps://www.youtube.com/
 watch?v=Fixf3DQLTEIhttps://www.youtube.com/watch?v=mtgi-FFJGjUhttps://www.
 youtube.com/watch?v=YUFk81XJI7w** CORES ** (Germany)noom recordshttps://ww
 w.facebook.com/michael.coreshttps://www.youtube.com/watch?v=K4U1YYC4L4Uhtt
 ps://www.youtube.com/watch?v=p2rzxWBloh4https://www.youtube.com/watch?v=En
 TyZl7g1BIhttps://www.youtube.com/watch?v=5BketHGbhlU** Vine the Lakeman &a
 mp\; Screech ** (Germany)streetparade CH\, back flash AT\, escape club nig
 ht DEhttps://www.facebook.com/vinethelakeman/https://www.youtube.com/watch
 ?v=cr6yT4K3Irghttps://www.youtube.com/watch?v=PGonOmpczWI&amp\;t=1015shttp
 s://www.youtube.com/watch?v=8Ry7NF_amHs&amp\;t=2510s** Code Red ** (FR)voi
 se noise records\, goliath\, gate one\, inka imperiohttps://www.youtube.co
 m/watch?v=WdDtE3X6Zaohttps://www.youtube.com/watch?v=5nVdJJAp_qA** Anyken 
 ** (ZH) ava white\, oxa\, stairs\, energy\, motion\, synergyhttps://www.fa
 cebook.com/djanyken/https://soundcloud.com/anykenhttps://www.youtube.com/w
 atch?v=IaGOu8w96Mohttps://www.youtube.com/watch?v=URB3sEuqfswhttps://www.y
 outube.com/watch?v=wN_6MKzy4uI&amp\;t=913s** Now-Here ** (ZH)recharge\, wh
 ite wolf\, oxa\, nature one\, alte kaserne https://www.facebook.com/groups
 /69104827253/** Arachno ** (ZH)apple sky\, d-lite\, cyber range\, goliath\
 , white wolfhttps://www.facebook.com/Alan.Camden** Vanja ** (ZH)kartazoon 
 events\, rave of mystery\, stairs\, center stagehttps://www.facebook.com/v
 anja.muller.7https://soundcloud.com/vanja-mueller** Deep Teryx **@ home ev
 ents\, club dampfhttps://www.facebook.com/DeepTeryx-481837385293673/Runnig
  Order soon....\n&nbsp\;\nDer Einlass gilt nur für Members. Jeder Gast mus
 s mindestens eine Tagesmitgliedschaft (Kostenpunkt: CHF 20) beantragen! Di
 e Location befindet sich im Otto Rupf-Gebäude - Eingang bei der Tiefgarage
 . Zu Fuss ca. 4 Minuten vom Bahnhof Stettbach entfernt. Reichlich Parkplät
 ze um das Gebäude sind vorhanden.\nMemberbeitrag = CHF 10.- / Person (sieh
 e Statuten 2019)\nHier geht's zum Memberantrag\n&nbsp\;
DTSTART:20190921T210000Z
DTEND:20190922T070000Z
GEO:00;0
LOCATION:Club Dampf
ORGANIZER:
SEQUENCE:1
SUMMARY:Recall ' the last at dampf '
TRANSP:OPAQUE
URL:https://www.kartazoon.ch/events/events-archiv/113-recall-the-last-at-da
 mpf
END:VEVENT
END:VCALENDAR
