BEGIN:VCALENDAR
VERSION:2.0
PRODID:-//Kartazoon//NONSGML kigkonsult.se iCalcreator 2.41.92//
CALSCALE:GREGORIAN
METHOD:PUBLISH
UID:34363466-6365-4233-b130-653633656632
X-WR-CALNAME:iCagenda
X-WR-CALDESC:Event Management Extension for Joomla!
X-WR-RELCALID:3E26604A-50F4-4449-8B3E-E4F4932D05B5
X-WR-TIMEZONE:UTC
BEGIN:VTIMEZONE
TZID:UTC
END:VTIMEZONE
BEGIN:VEVENT
UID:38623435-3830-4530-b039-386266306539
DTSTAMP:20260421T121959Z
CATEGORIES:Kartazoon Mitglieder
CLASS:PUBLIC
DESCRIPTION;ALTREP="CID:<FFFF__=0ABBE548DFE235B58f9e8a93d@coffeebean.com>":
 \nDampf closing (Fr. &amp\; Sa.)\nTraurig aber wahr\, der Club Dampf wird 
 definitv auf Ende 2019 seine Tore für immer schliessen müssen. Es war eine
  schöne\, abwechslungsreiche\, spannende\, nervenzerrende\, lehrreiche ja 
 einfach unglaubliche Zeit die wir während den lezten 5 Jahren miterleben d
 urften. Ob und wie es danach mit dem Partylabel Kartazoon weitergeht werde
 t ihr mit Sicherheit gegen Ende des laufenden Jahres noch rechtzeitig erfa
 hren. Aus diesem Grunde möchten wir euch bereits hiermit für das definitiv
  Letzte Partyweekend im Dampf Einladen.&nbsp\;\nDen Freitag Abend möchten 
 wir voll und ganz dem Techno mit seiner Vielfältigkeit widmen.\nLine-up / 
 21.00 - 08.00:\nJan B\nCut A. Kaos\nMarcel Warren\nMile Diskovic\nAngelica
  Fravi\nVanja\n&nbsp\;\n\nMusic-styles:\nin variants of Techno\n&nbsp\;\nD
 er Samtag wird dann zu einer sicherlich sehr emotionellen Tranceparty bere
 its auf 19.00 Abends gestartet.\n&nbsp\;\nLine-up / 19.00 - 08.00:\nDream
 \nPhrenetic\nNonsdrome\nIndian\nSolid N.R.G.\nAnyken\nBodo Kaiser\nNow-Her
 e\nAerow\nDave Zee\nDeep Teryx\nRaf FX\nArachno\n&nbsp\;\nDer Einlass gilt
  nur für Members. Jeder Gast muss mindestens eine Tagesmitgliedschaft (Kos
 tenpunkt: Freitags - CHF 20 / Samstag - CHF 30 / Freitag &amp\; Samstag - 
 CHF 40) beantragen! Die Location befindet sich im Otto Rupf-Gebäude - Eing
 ang bei der Tiefgarage. Zu Fuss ca. 4 Minuten vom Bahnhof Stettbach entfer
 nt. Reichlich Parkplätze um das Gebäude sind vorhanden.\n&nbsp\;\nMemberbe
 itrag = CHF 10.- / Person und Tag (siehe Statuten 2019)&nbsp\;\n&nbsp\;\nH
 ier geht's zum Memberantrag
DTSTART:20191005T190000Z
DTEND:20191006T080000Z
GEO:00;0
LOCATION:Club Dampf
ORGANIZER:
SEQUENCE:1
SUMMARY:Dampf closing
TRANSP:OPAQUE
URL:https://www.kartazoon.ch/events/events-archiv/112-dampf-closing
END:VEVENT
END:VCALENDAR
