BEGIN:VCALENDAR
VERSION:2.0
PRODID:-//Kartazoon//NONSGML kigkonsult.se iCalcreator 2.41.92//
CALSCALE:GREGORIAN
METHOD:PUBLISH
UID:32616136-3530-4737-b234-346365623539
X-WR-CALNAME:iCagenda
X-WR-CALDESC:Event Management Extension for Joomla!
X-WR-RELCALID:3E26604A-50F4-4449-8B3E-E4F4932D05B5
X-WR-TIMEZONE:UTC
BEGIN:VTIMEZONE
TZID:UTC
END:VTIMEZONE
BEGIN:VEVENT
UID:64323930-3262-4432-b231-313537366236
DTSTAMP:20260423T114644Z
CATEGORIES:Kartazoon Mitglieder
CLASS:PUBLIC
DESCRIPTION;ALTREP="CID:<FFFF__=0ABBE548DFE235B58f9e8a93d@coffeebean.com>":
 Dampfparade\nMusic from past to future\nSpecials:\nthe last edition\n\n&nb
 sp\;\nMusic-styles:\nin variants of Trance / Progressive\n&nbsp\;\nLine-up
 :\nYilmars (DE)\nNostra\nVanja meets Vania\nAndialbundy\nAerow\nGregg\nRaf
 FX\nDer Einlass gilt nur für Members. Jeder Gast muss mindestens eine Tage
 smitgliedschaft (Kostenpunkt: CHF 25) beantragen! Die Location befindet si
 ch im Otto Rupf-Gebäude - Eingang bei der Tiefgarage. Zu Fuss ca. 4 Minute
 n vom Bahnhof Stettbach entfernt. Reichlich Parkplätze um das Gebäude sind
  vorhanden.\nMemberbeitrag = CHF 15.- / Person (siehe Statuten 2019)&nbsp\
 ;\nHier geht's zum Memberantrag
DTSTART:20190810T200000Z
DTEND:20190811T100000Z
GEO:00;0
LOCATION:Club Dampf
ORGANIZER:
SEQUENCE:1
SUMMARY:Dampfparade
TRANSP:OPAQUE
URL:https://www.kartazoon.ch/events/events-archiv/111-dampfparade
END:VEVENT
END:VCALENDAR
