BEGIN:VCALENDAR
VERSION:2.0
PRODID:-//Kartazoon//NONSGML kigkonsult.se iCalcreator 2.41.92//
CALSCALE:GREGORIAN
METHOD:PUBLISH
UID:62353261-6533-4531-b238-636236346530
X-WR-CALNAME:iCagenda
X-WR-CALDESC:Event Management Extension for Joomla!
X-WR-RELCALID:3E26604A-50F4-4449-8B3E-E4F4932D05B5
X-WR-TIMEZONE:UTC
BEGIN:VTIMEZONE
TZID:UTC
END:VTIMEZONE
BEGIN:VEVENT
UID:37613236-3866-4761-a139-626136643261
DTSTAMP:20260421T122153Z
CATEGORIES:Kartazoon Mitglieder
CLASS:PUBLIC
DESCRIPTION;ALTREP="CID:<FFFF__=0ABBE548DFE235B58f9e8a93d@coffeebean.com>":
 \nlast nightflight at dampf\nTraurig aber wahr\, der Club Dampf wird defin
 itv auf Ende 2019 seine Tore für immer schliessen müssen. Aus diesem Grund
 e möchten wir euch bereits hiermit für die Letzte Nightflight im Dampf Ein
 laden\, und hoffen\, zusammen mit Euch diesen allerletzten Flug im Dampf n
 ochmals richtig geniessen zu können. Ob und wie es danach mit dem Partylab
 el Kartazoon weitergeht werdet ihr mit Sicherheit gegen Ende des laufenden
  Jahres noch rechtzeitig erfahren.\nlast nightflight at dampf\n\nMusic-sty
 les:\nprogressive / psytrance\n&nbsp\;\nLine-up:\n22.00 - 00.00 Raf FX\n00
 .00 - 02.30 Angy Dee (Special guest)\n02.30 - 04.30 Vanja\n04.30 - 07.00 G
 regg\n&nbsp\;\nDer Einlass gilt nur für Members. Jeder Gast muss mindesten
 s eine Tagesmitgliedschaft (Kostenpunkt: CHF 20) beantragen! Die Location 
 befindet sich im Otto Rupf-Gebäude - Eingang bei der Tiefgarage. Zu Fuss c
 a. 4 Minuten vom Bahnhof Stettbach entfernt. Reichlich Parkplätze um das G
 ebäude sind vorhanden.\n&nbsp\;\nMemberbeitrag = CHF 10.- / Person (siehe 
 Statuten 2019)&nbsp\;\nHier geht's zum Memberantrag
DTSTART:20190907T220000Z
DTEND:20190908T070000Z
GEO:00;0
LOCATION:Club Dampf
ORGANIZER:
SEQUENCE:1
SUMMARY:last nightflight at dampf
TRANSP:OPAQUE
URL:https://www.kartazoon.ch/events/events-archiv/110-last-nightflight-at-d
 ampf
END:VEVENT
END:VCALENDAR
