BEGIN:VCALENDAR
VERSION:2.0
PRODID:-//Kartazoon//NONSGML kigkonsult.se iCalcreator 2.41.92//
CALSCALE:GREGORIAN
METHOD:PUBLISH
UID:66383362-3034-4738-b238-656665356133
X-WR-CALNAME:iCagenda
X-WR-CALDESC:Event Management Extension for Joomla!
X-WR-RELCALID:3E26604A-50F4-4449-8B3E-E4F4932D05B5
X-WR-TIMEZONE:UTC
BEGIN:VTIMEZONE
TZID:UTC
END:VTIMEZONE
BEGIN:VEVENT
UID:37613035-6333-4339-b562-666330326661
DTSTAMP:20260423T114229Z
CATEGORIES:Öffentliche Partys
CLASS:PUBLIC
DESCRIPTION;ALTREP="CID:<FFFF__=0ABBE548DFE235B58f9e8a93d@coffeebean.com>":
 \nCENTER STAGE @ Zürifäscht 2019\n&nbsp\; \nCenter Stage - 3 day Electroni
 c Music Festival - Züri Fäscht 2019\n&nbsp\;\n\nWir wollen ein bunt gemisc
 htes Publikum ansprechen\, welches es schätzt Mitten in Zürich\, unmittelb
 ar am Zürichsee\, in harmonischer Umgebung gemeinsam zu elektronischen Klä
 ngen zu Tanzen.&nbsp\; \n\n\n\n&nbsp\;\nFreitagsprogramm:Deep-\, Tech-\, E
 thno-\, Oriental- bis hin zu Progressive-House &amp\; Techno\n&nbsp\;\nLuc
 a Barth (Akustik Produkt)\nDj Indian (The 4 Elements)\nDimitri (Kartazoon)
 \nAngelica Fravi (ZH)\nF-act (Bonzai / Joof)\nMarcel Warren (Plastic Toys 
 Rec. / Dope on Plastic)\nMile Diskovic (Antarctic Records)\n&nbsp\;\nSamst
 agsprogramm:Progressive &amp\; Psytrance\n&nbsp\;\nLive Acts\n&nbsp\;\nOne
  Function (Iono Music / ISR)\nLyktum (Iono Music / SRB)\nAioaska (Iono Mus
 ic / AUT)\n&nbsp\;\nDjs\n&nbsp\;\n\nYahel (Yahel / ISR)\nCubixx (Iono Musi
 c / DE)\n\n&nbsp\;\nDream (ZH)\nJoshua meets Vanja (Frozen Paradies Rec. K
 artazoon\, UG\, Borderline)\nShift Play (Iono Music / CH)\nStellina (Infin
 ity-Tunes)\nGregg (Kartazoon)\nSonlight (Culture Move)\n\n&nbsp\;\nSonntag
 sprogramm:Daydance@Centerstage – Bufta &amp\; Tanzlaune meets KartazoonDee
 p House\, Melodic Techno\n&nbsp\;\nWetten Bass (Bufta)\nBocuse (Bufta)\nMa
 thias Makau (Bufta / Tanzlaune)\nZubinho &amp\; Good Luke (Tanzlaune)\n&nb
 sp\;\ncool down by Kartazoon\n&nbsp\;\nAdriani (Kartazoon)\nGregg (Kartazo
 on)\n\n\n\n\n\n\nDie genauen Spielzeiten werden erst kurz vor dem Züri Fäs
 cht bekannt gegeben:\n\n\nSpecials:Umgeben von kulinarischen Köstlichkeite
 n aus der Veganen &amp\; Non-Veganen\, als auch der französischen Küche (m
 it süssen oder salzigen Crêpes)\, laden wir zum Essen ein.Auch an verschie
 denen Barbetrieben auf der Center Stage mangelt es nicht.\n\nEgal ob du ei
 nen speziellen Shot\, einen Caipirinha oder doch lieber eines der zahlreic
 hen Standard-getränke möchtest\, wir können dir beinahe alle Wünsche erfül
 len. Komm vorbei und mach dir selbst ein Bild davon\, wie bunt es bei uns 
 auf der Center Stage zu und her geht.\n&nbsp\;\nKomm und sei dabei wenn es
  heisst:\n'Kartazoon goes Outdoor'\n\nCenter Stage - 3 day Electronic Musi
 c Festival - Züri Fäscht 2019\n\n\n\nGehörst auch du noch immer zu den zah
 lreichen Facebook-usern. Siehe dazu unsere neuen Facebookseiten\nCenter St
 age Electronic Music Festival Züri Fäscht\n\nCenter Stage (Veranstaltungss
 eite - Facebook) \n&nbsp\;\nAn dieser Stelle möchten wir euch gerne bereit
 s darauf hinweisen.\nBitte benutzt die Abfalleimer und Aschenbecher.&nbsp\
 ;\nGlasflaschen werden auf unserem Areal nicht gerne gesehen.\nUnsere Putz
 equipe sowie die Füsse der Barfusstänzer würden es sehr begrüssen\, wenn i
 hr euch an diese Bitten halten könntet.\n&nbsp\;\nWir freuen uns auf das k
 ommende Zürichfäscht 2019 und bedanken uns für euren Respekt zur Natur und
  euren Mitmenschen.\n&nbsp\;\nEinen grossen Dank an unsere Freunde für die
  tolle Unterstützung.\n&nbsp\;\n&nbsp\;\n\n\n\n\n\n\n\n&nbsp\;
DTSTART:20190705T170000Z
DTEND:20190707T230000Z
GEO:00;0
LOCATION:Rechtes See-Ufer beim Kugelbrunnen
ORGANIZER:
SEQUENCE:1
SUMMARY:CENTER STAGE @ Züri Fäscht 2019
TRANSP:OPAQUE
URL:https://www.kartazoon.ch/events/events-archiv/109-center-stage-zueri-fa
 escht-2019
END:VEVENT
END:VCALENDAR
