BEGIN:VCALENDAR
VERSION:2.0
PRODID:-//Kartazoon//NONSGML kigkonsult.se iCalcreator 2.41.92//
CALSCALE:GREGORIAN
METHOD:PUBLISH
UID:62373366-3063-4936-b739-653532383564
X-WR-CALNAME:iCagenda
X-WR-CALDESC:Event Management Extension for Joomla!
X-WR-RELCALID:3E26604A-50F4-4449-8B3E-E4F4932D05B5
X-WR-TIMEZONE:UTC
BEGIN:VTIMEZONE
TZID:UTC
END:VTIMEZONE
BEGIN:VEVENT
UID:66626639-6630-4631-b535-633430613430
DTSTAMP:20260421T122327Z
CATEGORIES:Kartazoon Mitglieder
CLASS:PUBLIC
DESCRIPTION;ALTREP="CID:<FFFF__=0ABBE548DFE235B58f9e8a93d@coffeebean.com>":
 Monoceros Curuvar \n&nbsp\;\nWas soviel heisst wie Einhorn Donnerstag\n&nb
 sp\;\nDie Idee die dahinter steckt:\n\nAb jeweils 20.00 Uhr stehen die Tür
 en offen. Die Dj-Sets an diesen Abenden werden\, sofern es die Gast-DJ’s z
 ulassen\, aufgenommen und dir voraussichtlich via Soundcloud zur Verfügung
  gestellt.\n\nSpecials:\nSet-Aufnahme\nAb 22.00 host by&nbsp\;DeepTeryx\n&
 nbsp\;\n\nMusic-styles:\ntechno\nLine-up:\nVanja meets Luca Barth / second
  part\n&nbsp\;\nDer Einlass gilt nur für Members. Jeder Gast muss mindeste
 ns eine Tagesmitgliedschaft beantragen! Die Location befindet sich im Otto
  Rupf-Gebäude - Eingang bei der Tiefgarage. Zu Fuss ca. 4 Minuten vom Bahn
 hof Stettbach entfernt. Reichlich Parkplätze um das Gebäude sind vorhanden
 .\n\nHier geht's zum Memberantrag
DTSTART:20190404T200000Z
DTEND:20190405T020000Z
GEO:00;0
LOCATION:Club Dampf
ORGANIZER:
SEQUENCE:1
SUMMARY:Monoceros Curuvar mit Gast-Dj Luca Barth
TRANSP:OPAQUE
URL:https://www.kartazoon.ch/events/events-archiv/107-monoceros-curuvar-mit
 -gast-dj-luca-barth
END:VEVENT
END:VCALENDAR
