BEGIN:VCALENDAR
VERSION:2.0
PRODID:-//Kartazoon//NONSGML kigkonsult.se iCalcreator 2.41.92//
CALSCALE:GREGORIAN
METHOD:PUBLISH
UID:38323730-3662-4636-a532-393964366635
X-WR-CALNAME:iCagenda
X-WR-CALDESC:Event Management Extension for Joomla!
X-WR-RELCALID:3E26604A-50F4-4449-8B3E-E4F4932D05B5
X-WR-TIMEZONE:UTC
BEGIN:VTIMEZONE
TZID:UTC
END:VTIMEZONE
BEGIN:VEVENT
UID:61636362-6435-4538-b332-636361346639
DTSTAMP:20260421T143115Z
CATEGORIES:Kartazoon Mitglieder
CLASS:PUBLIC
DESCRIPTION;ALTREP="CID:<FFFF__=0ABBE548DFE235B58f9e8a93d@coffeebean.com>":
 Monoceros Curuvar \n&nbsp\;\nWas soviel heisst wie Einhorn Donnerstag\n&nb
 sp\;\nDie Idee die dahinter steckt:\n\nAb jeweils 20.00 Uhr stehen die Tür
 en offen. Die Dj-Sets an diesen Abenden werden\, sofern es die Gast-DJ’s z
 ulassen\, aufgenommen und dir voraussichtlich via Soundcloud zur Verfügung
  gestellt.\n\nSpecials:\nSet-Aufnahme (only vinyl)\nAb 22.00 host by&nbsp\
 ;DeepTeryx\n&nbsp\;\n\nMusic-styles:\nin variants of electronic styles\nLi
 ne-up:\nVanja meets Andi al bundy\n\n&nbsp\;\nDer Einlass gilt nur für Mem
 bers. Jeder Gast muss mindestens eine Tagesmitgliedschaft beantragen! Die 
 Location befindet sich im Otto Rupf-Gebäude - Eingang bei der Tiefgarage. 
 Zu Fuss ca. 4 Minuten vom Bahnhof Stettbach entfernt. Reichlich Parkplätze
  um das Gebäude sind vorhanden.\n\n\nHier geht's zum Memberantrag
DTSTART:20190321T200000Z
DTEND:20190322T020000Z
GEO:00;0
LOCATION:Club Dampf
ORGANIZER:
SEQUENCE:1
SUMMARY:Monoceros Curuvar mit Gast-DJ Andi al bundy
TRANSP:OPAQUE
URL:https://www.kartazoon.ch/events/events-archiv/106-monoceros-curuvar-2
END:VEVENT
END:VCALENDAR
