BEGIN:VCALENDAR
VERSION:2.0
PRODID:-//Kartazoon//NONSGML kigkonsult.se iCalcreator 2.41.92//
CALSCALE:GREGORIAN
METHOD:PUBLISH
UID:66613534-6261-4338-a234-386163393161
X-WR-CALNAME:iCagenda
X-WR-CALDESC:Event Management Extension for Joomla!
X-WR-RELCALID:3E26604A-50F4-4449-8B3E-E4F4932D05B5
X-WR-TIMEZONE:UTC
BEGIN:VTIMEZONE
TZID:UTC
END:VTIMEZONE
BEGIN:VEVENT
UID:31333266-3834-4631-a433-363239363665
DTSTAMP:20260421T132218Z
CATEGORIES:Kartazoon Mitglieder
CLASS:PUBLIC
DESCRIPTION;ALTREP="CID:<FFFF__=0ABBE548DFE235B58f9e8a93d@coffeebean.com>":
 LABOR MUSIK (Label night)\nWir freuen uns auf eine erste Zusammenarbeit mi
 t dem Record Label - LABOR MUSIK&nbsp\;\n&nbsp\;\nLabor Musik is a record 
 label standing for high quality electronic dance music - founded for all m
 usic lovers over the world. We offer space for different genres like Deep 
 House\, Progressive House\, Electro Pop Techno and Melodic Techno. The mos
 t important thing for us is - the unique style and passion for story &amp\
 ; details.\n&nbsp\;\n\nIn Kollaboration&nbsp\;mit LABOR MUSIK und Kartazoo
 n-Gallery\n&nbsp\;\nSei dabei und geniesse mit uns die Erste und voraussic
 htlich die Letzte LABOR MUSIK (Label night) im Club Dampf in Dübendorf.\n&
 nbsp\;\n\nMusic-styles:\ndeep house\, progressive house\, electro pop\n(in
  variants of techno)\nLine-up:\nBouncer\nAudiomolekül\nAddalog\nFlow Box\n
 Nachtaktiv\nMasami\nMarco Amoazoo\n\n\n\n\n\n\n&nbsp\;\nDer Einlass gilt n
 ur für Members. Jeder Gast muss mindestens eine Tagesmitgliedschaft (Koste
 npunkt: CHF 15) beantragen! Die Location befindet sich im Otto Rupf-Gebäud
 e - Eingang bei der Tiefgarage. Zu Fuss ca. 4 Minuten vom Bahnhof Stettbac
 h entfernt. Reichlich Parkplätze um das Gebäude sind vorhanden.\n&nbsp\;\n
 \n\nMemberbeitrag = CHF 10.- / Person (siehe Statuten 2019)\n.............
 Die Mitgliederbeiträge für das Jahr 2019 bleiben unverändert bei 30 CHF. W
 as jedoch neu hinzukommen wird\, sind zusätzliche Kosten von 10 bis 20 CHF
  pro Anlass\, welcher besucht werden will. Die Höhe der Tagesmitgliedschaf
 t wird durch den Vorstand festgelegt. Die Kosten werden leicht angepasst u
 nd belaufen sich je nach Aufwand des Anlasses zwischen 10 bis 30 CHF. Ziel
  dieser Anpassungen ist die alleinige Finanzierung einer neuen Musikanlage
 \, Mischpult\, 2 CD-Playern sowie weiteren Anschaffungen von Lichteffekten
  etc.\n\n\n\n\n\n\n\n\nHier geht's zum Memberantrag
DTSTART:20190511T220000Z
DTEND:20190512T080000Z
GEO:00;0
LOCATION:Club Dampf
ORGANIZER:
SEQUENCE:1
SUMMARY:LABOR MUSIK (Label night)
TRANSP:OPAQUE
URL:https://www.kartazoon.ch/events/events-archiv/104-labor-musik-label-nig
 ht
END:VEVENT
END:VCALENDAR
