BEGIN:VCALENDAR
VERSION:2.0
PRODID:-//Kartazoon//NONSGML kigkonsult.se iCalcreator 2.41.92//
CALSCALE:GREGORIAN
METHOD:PUBLISH
UID:61633137-3535-4434-a362-363633393465
X-WR-CALNAME:iCagenda
X-WR-CALDESC:Event Management Extension for Joomla!
X-WR-RELCALID:3E26604A-50F4-4449-8B3E-E4F4932D05B5
X-WR-TIMEZONE:UTC
BEGIN:VTIMEZONE
TZID:UTC
END:VTIMEZONE
BEGIN:VEVENT
UID:61353730-6366-4236-b232-383033663361
DTSTAMP:20260423T094224Z
CATEGORIES:In Kollaboration mit ...
CLASS:PUBLIC
DESCRIPTION;ALTREP="CID:<FFFF__=0ABBE548DFE235B58f9e8a93d@coffeebean.com>":
 12 Years Electro Radio B-Day Bash\nIn Zusammenarbeit mit Electroradio.fm\n
 all about electromusic / 12h nonStop Live Session\nOb man Vater oder Mutte
 r wird erfährt man meistens vom Arzt. Bei unserer Entscheidung aber war di
 e Liebe zur elektronischen Musik\, der Überbringer der Nachricht von&nbsp\
 ;electroradio.fm...Menschen international auch mit unserer Musik zu begeis
 tern und auch andersrum. Menschen zu verbinden! Und das haben jetzt über 1
 2 Jahre (1\,2 Millionen) Menschen gemacht\, wir danken Euch für eine grand
 iose Zeit und tolle Freundschaften die dabei entstanden sind. Unser Musikg
 eschmack ist genauso gewachsen wie das Netzwerk zu einmaligen Künstlern\, 
 die wir über die Jahre über&nbsp\;electroradio.fm&nbsp\;kennen lernen durf
 ten. Und damit es genauso weiter geht\, laden wir Euch ein...ein Teil davo
 n zu sein...Inspiration\, Liebe\, Freunde &amp\; Freude mitzunehmen und au
 ch da zu lassen. Es ist für uns ein sehr intimer Moment und das soll er au
 ch bleiben\, deshalb gibt es auch nur 150 Plätze...also beeilt Euch! :-)\n
 Music-styles:\ndeephouse / techhouse / techno\n&nbsp\;\nLine-up: \n\nD.O.N
 .S.\nJuli Lee\nFABRi\nLeny J\nAffensolo\nVanja\nLouis Brown\n\nDer Einlass
  gilt nur für Members. Jeder Gast muss mindestens eine Tagesmitgliedschaft
  (Kostenpunkt: CHF 10) beantragen! Die Location befindet sich im Otto Rupf
 -Gebäude - Eingang bei der Tiefgarage. Zu Fuss ca. 4 Minuten vom Bahnhof S
 tettbach entfernt. Reichlich Parkplätze um das Gebäude sind vorhanden.\n\n
 Memberbeitrag = CHF 10.- / Person (siehe Statuten 2019)\n&nbsp\;\nJeder Me
 mber\, welcher die CHF 10.- bezahlt hat\, wird bei der Eingangskontrolle f
 ür diesen Anlass einen zusätzlichen Getränkebons für ein Bier oder Softget
 ränk erhalten)\n.............Die Mitgliederbeiträge für das Jahr 2019 blei
 ben unverändert bei 30 CHF. Was jedoch neu hinzukommen wird\, sind zusätzl
 iche Kosten von 10 bis 20 CHF pro Anlass\, welcher besucht werden will. Di
 e Höhe der Tagesmitgliedschaft wird durch den Vorstand festgelegt. Die Kos
 ten werden leicht angepasst und belaufen sich je nach Aufwand des Anlasses
  zwischen 10 bis 30 CHF. Ziel dieser Anpassungen ist die alleinige Finanzi
 erung einer neuen Musikanlage\, Mischpult\, 2 CD-Playern sowie weiteren An
 schaffungen von Lichteffekten etc.\n\n&nbsp\;\nHier geht's zum Memberantra
 g
DTSTART:20190601T200000Z
DTEND:20190602T080000Z
GEO:00;0
LOCATION:Club Dampf
ORGANIZER:
SEQUENCE:1
SUMMARY:12 Years Electro Radio B-Day Bash
TRANSP:OPAQUE
URL:https://www.kartazoon.ch/events/events-archiv/102-12-years-electro-radi
 o-b-day-bash
END:VEVENT
END:VCALENDAR
