BEGIN:VCALENDAR
VERSION:2.0
PRODID:-//Kartazoon//NONSGML kigkonsult.se iCalcreator 2.41.92//
CALSCALE:GREGORIAN
METHOD:PUBLISH
UID:30366231-3737-4161-b630-316132633163
X-WR-CALNAME:iCagenda
X-WR-CALDESC:Event Management Extension for Joomla!
X-WR-RELCALID:3E26604A-50F4-4449-8B3E-E4F4932D05B5
X-WR-TIMEZONE:UTC
BEGIN:VTIMEZONE
TZID:UTC
END:VTIMEZONE
BEGIN:VEVENT
UID:36666565-6231-4434-a566-366164383362
DTSTAMP:20260421T132046Z
CATEGORIES:Kartazoon Mitglieder
CLASS:PUBLIC
DESCRIPTION;ALTREP="CID:<FFFF__=0ABBE548DFE235B58f9e8a93d@coffeebean.com>":
 Lumen night\nWir von Kartazoon freuen uns auf eine erste Zusammenarbeit mi
 t Lumen Deko\nZitat von Lukas (Lumen Deko)\n&nbsp\;\nWunderschöne guete Ta
 g\nEs isch wieder die Zit im Jahr wo de Humphrey und de Lukas eh B-Day Par
 ty mached. :)Dasmal wirds Indoor im Club Dampf in Dübendorf stattfinde. Mi
 r werdet euch verzaubere mit wunderbare Musik\, vo langsam bis schnell. Ac
 ts Folgen laufend. Im Club wird natürlich vo eus mit Dekoration und Beleuc
 htung usgfüllt. Mehr Infos Folged.\n\n\n\n&nbsp\;\nSpecials:\nDeko by Lume
 n Deko\n&nbsp\;\n\nMusic-styles:\nin variants of electronic styles\nLine-u
 p:\nLuck3y (Progside Rec/LumenDeko)\n\n[ Psy Trance/ Prögi]\n&nbsp\;\nAsma
 trix [ Psy] \n&nbsp\;\n- Donix [ High-tech]  Hyper-Atomic Rec.- Mad samael
  &amp\; Merlin the wizzard [ High-tech/Darkpsy]- DJ Ravemaster [Progi] - D
 ä Gianni  [ High-tech] Hyper-Atomic Rec.- Wazy Phynx  [ Twilight/Dark/Fore
 st]\n\n\n\n\n\n\n&nbsp\;\nDer Einlass gilt nur für Members. Jeder Gast mus
 s mindestens eine Tagesmitgliedschaft (Kostenpunkt: CHF 15) beantragen! Di
 e Location befindet sich im Otto Rupf-Gebäude - Eingang bei der Tiefgarage
 . Zu Fuss ca. 4 Minuten vom Bahnhof Stettbach entfernt. Reichlich Parkplät
 ze um das Gebäude sind vorhanden.\n&nbsp\;\n\n\nMemberbeitrag = CHF 10.- /
  Person (siehe Statuten 2019)\n.............Die Mitgliederbeiträge für das
  Jahr 2019 bleiben unverändert bei 30 CHF. Was jedoch neu hinzukommen wird
 \, sind zusätzliche Kosten von 10 bis 20 CHF pro Anlass\, welcher besucht 
 werden will. Die Höhe der Tagesmitgliedschaft wird durch den Vorstand fest
 gelegt. Die Kosten werden leicht angepasst und belaufen sich je nach Aufwa
 nd des Anlasses zwischen 10 bis 30 CHF. Ziel dieser Anpassungen ist die al
 leinige Finanzierung einer neuen Musikanlage\, Mischpult\, 2 CD-Playern so
 wie weiteren Anschaffungen von Lichteffekten etc.\n\n\n\n\n\n\n\n\n\n\n\n
 \nHier geht's zum Memberantrag
DTSTART:20190622T200000Z
DTEND:20190623T080000Z
GEO:00;0
LOCATION:Club Dampf
ORGANIZER:
SEQUENCE:1
SUMMARY:Lumen - Night
TRANSP:OPAQUE
URL:https://www.kartazoon.ch/events/events-archiv/100-lumen-night
END:VEVENT
END:VCALENDAR
