BEGIN:VCALENDAR
VERSION:2.0
PRODID:-//Kartazoon//NONSGML kigkonsult.se iCalcreator 2.41.92//
CALSCALE:GREGORIAN
METHOD:PUBLISH
UID:31346232-6234-4138-b063-333161316130
X-WR-CALNAME:iCagenda
X-WR-CALDESC:Event Management Extension for Joomla!
X-WR-RELCALID:3E26604A-50F4-4449-8B3E-E4F4932D05B5
X-WR-TIMEZONE:UTC
BEGIN:VTIMEZONE
TZID:UTC
END:VTIMEZONE
BEGIN:VEVENT
UID:36383766-3137-4439-b631-316634626132
DTSTAMP:20260421T130334Z
CATEGORIES:Kartazoon Mitglieder
CLASS:PUBLIC
DESCRIPTION;ALTREP="CID:<FFFF__=0ABBE548DFE235B58f9e8a93d@coffeebean.com>":
 Anlässlich des 38igsten Geburtstages von Oliver Bruni laden wir dich herzl
 ichst ein\, dies gebührend mit uns feiern zu kommen.\n20.30-22.00Fingerfoo
 d &amp\; Bowle\n22.00-open endin variants of electronic styles\nLine-upNos
 traNow-HereTomy GipsVanjaAaron KhaleianFanaticAndre\nDer Einlass gilt nur 
 für Members und jene Personen die eine persönliche Einladung erhalten habe
 n.Die Location befindet sich im Otto Rupf-Gebäude - Eingang bei der Tiefga
 rage. Zu Fuss ca. 4 Minuten vom Bahnhof Stettbach entfernt. Reichlich Park
 plätze um das Gebäude vorhanden.\nEs freuen sich Oli\, Vanja\, Djs und Hel
 fer auf eine ausgelassene Party mit guten Leuten.\nHier geht's zum&nbsp\;M
 emberantrag
DTSTART:20150815T203000Z
DTEND:20150816T063000Z
GEO:+47.395519;+8.598752
LOCATION:Club Dampf
ORGANIZER:
SEQUENCE:1
SUMMARY:O.Bruni's Birthday-Bash
TRANSP:OPAQUE
URL:https://www.kartazoon.ch/events/events-archiv/1-Birthday-bash
END:VEVENT
END:VCALENDAR
