BEGIN:VCALENDAR
VERSION:2.0
PRODID:-//Kartazoon//NONSGML kigkonsult.se iCalcreator 2.41.92//
CALSCALE:GREGORIAN
METHOD:PUBLISH
UID:61353530-6436-4636-a462-376430303863
X-WR-CALNAME:iCagenda
X-WR-CALDESC:Event Management Extension for Joomla!
X-WR-RELCALID:3E26604A-50F4-4449-8B3E-E4F4932D05B5
X-WR-TIMEZONE:UTC
BEGIN:VTIMEZONE
TZID:UTC
END:VTIMEZONE
BEGIN:VEVENT
UID:64313964-3937-4738-b133-616364626336
DTSTAMP:20260421T111119Z
CATEGORIES:Öffentliche Partys
CLASS:PUBLIC
DESCRIPTION;ALTREP="CID:<FFFF__=0ABBE548DFE235B58f9e8a93d@coffeebean.com>":
 20 Jahre Kartazoon – Daydance Milandia 2026\nSeit 20 Jahren steht Kartazoo
 n für elektronische Musik\, starke Vibes und unvergessliche Momente auf de
 r Tanzfläche. Dieses besondere Jubiläum feiern wir gemeinsam mit euch – be
 i einem einzigartigen Daydance im Milandia mit Naturpool und besonderer At
 mosphäre. \nAm Pfingstwochenende\, Samstag\, 23. Mai 2026\, verwandelt sic
 h das Milandia in Greifensee in einen Treffpunkt für alle Liebhaber elektr
 onischer Musik. Freut euch auf einen ganzen Tag voller treibender Beats\, 
 entspannter Daydance-Stimmung und einer ganz besonderen Jubiläumsedition v
 on Kartazoon. \nWir starten bereits ab 12:00 Uhr mit einem Extended Intro 
 von AARON KHALEIAN und begleiten euch musikalisch durch den Tag – von ents
 pannten Grooves bis hin zu energiegeladenen Sets am Nachmittag und Abend.
 \nLine-up\n\nPASCI\nJULI LEE\nAARON KHALEIAN\nDE LA MASO\nVANJA\n\nLocatio
 n: MilandiaDatum: Samstag\, 23.05.2026Start: 12:00 Uhr\nTickets\n\nEARLY B
 IRD = SOLD OUT\nREGULAR = CHF 29.-\nFinal Release = CHF 36.-\n\nWir freuen
  uns darauf\, gemeinsam mit euch 20 Jahre Kartazoon zu feiern. 
DTSTART:20260523T120000Z
DTEND:20260523T230000Z
GEO:00;0
LOCATION:Milandia
ORGANIZER:
SEQUENCE:1
SUMMARY:Daydance Milandia
TRANSP:OPAQUE
URL:https://www.kartazoon.ch/events/131-daydance-milandia
END:VEVENT
END:VCALENDAR
